BEGIN:VCALENDAR
VERSION:2.0
PRODID:-//ChamberMaster//Event Calendar 2.0//EN
METHOD:PUBLISH
X-PUBLISHED-TTL:P3D
REFRESH-INTERVAL:P3D
CALSCALE:GREGORIAN
BEGIN:VEVENT
DTSTART:20200229T210000Z
DTEND:20200301T010000Z
X-MICROSOFT-CDO-ALLDAYEVENT:FALSE
SUMMARY:CSUF - Orange County Celebrates Entrepreneurship
DESCRIPTION:The inaugural Orange County Celebrates Entrepreneurs will give guests the chance to gain a deep understanding of the entrepreneurial journey and its impact. There will be keynote remarks\, panel discussions\, podcast and networking among startups\, business leaders\, investors\, bankers\, advisors\, and students. \n\n\n\nThe event is a collaboration between UCI Beall Applied Innovation\, Cal State Fullerton Center for Entrepreneurship and Concordia University School of Business and Economics. \n\n\n\nTentative Schedule:\n\n	1:00 pm: John Bradley Jackson\, Director of the Center for Entrepreneurship at Cal State Fullerton\n	1:10 pm: Opening Keynote with Paul Wasserman\, Co-Founder of Ebates\n	1:35 pm: Transition\n	1:45 pm: First panels (Startups\, Family Business\, and Carey Ransom Podcast)\n	2:25 pm: Transition\n	2:35 pm: Second Panels (Growth Companies in the Food Industry\, Growth Companies in the Tech Industry\, and Investors)\n	3:15 pm Networking\n	3:30 pm: Third Panels (Exits\, Advisors\, and Startups)\n	4:10 pm: Transition\n	4:20 pm: Closing Keynote with Gillian Hayes\, UCI Vice Provost\n	4:45 pm: Closing remarks from George Wright\, the Dean of the School of Business for Concordia University
X-ALT-DESC;FMTTYPE=text/html:The inaugural Orange County Celebrates Entrepreneurs will give guests the chance to gain a deep understanding of the entrepreneurial journey and its impact. There will be keynote remarks\, panel discussions\, podcast and networking among startups\, business leaders\, investors\, bankers\, advisors\, and students.&nbsp\;<br />\n<br />\nThe event is a collaboration between UCI Beall Applied Innovation\, Cal State Fullerton Center for Entrepreneurship and Concordia University School of Business and Economics.&nbsp\;<br />\n<br />\n<u>Tentative Schedule:</u>\n<ul>\n	<li>1:00 pm: John Bradley Jackson\, Director of the Center for Entrepreneurship at Cal State Fullerton</li>\n	<li>1:10 pm: Opening Keynote with Paul Wasserman\, Co-Founder of Ebates</li>\n	<li>1:35 pm: Transition</li>\n	<li>1:45 pm: First panels (Startups\, Family Business\, and Carey Ransom Podcast)</li>\n	<li>2:25 pm: Transition</li>\n	<li>2:35 pm: Second Panels (Growth Companies in the Food Industry\, Growth Companies in the Tech Industry\, and Investors)</li>\n	<li>3:15 pm Networking</li>\n	<li>3:30 pm: Third Panels (Exits\, Advisors\, and Startups)</li>\n	<li>4:10 pm: Transition</li>\n	<li>4:20 pm: Closing Keynote with Gillian Hayes\, UCI Vice Provost</li>\n	<li>4:45 pm: Closing remarks from George Wright\, the Dean of the School of Business for Concordia University</li>\n</ul>\n
LOCATION:California State University Titan Student Union 800 N State College Blvd. Fullerton\, CA 92831
UID:e.887.24122
SEQUENCE:3
DTSTAMP:20260421T180742Z
URL:https://business.nocchamber.com/events/details/csuf-orange-county-celebrates-entrepreneurship-24122
END:VEVENT

END:VCALENDAR
