BEGIN:VCALENDAR
VERSION:2.0
PRODID:-//ChamberMaster//Event Calendar 2.0//EN
METHOD:PUBLISH
X-PUBLISHED-TTL:P3D
REFRESH-INTERVAL:P3D
CALSCALE:GREGORIAN
BEGIN:VEVENT
DTSTART:20200428T170000Z
DTEND:20200428T180000Z
X-MICROSOFT-CDO-ALLDAYEVENT:FALSE
SUMMARY:CSUF Mihaylo College Economic Forecast Panel Discussion
DESCRIPTION:View the online video forecast\, which looks at the Orange County\, U.S. and global economies in light of the coronavirus crisis\, presented by Anil Puri\, Ph.D.\, provost emeritus and director of the Woods Center for Economic Analysis and Forecasting\, and Mira Farka\, Ph.D.\, associate professor of economics and co-director of the Woods Center for Economic Analysis and Forecasting.
X-ALT-DESC;FMTTYPE=text/html:View the online video forecast\, which looks at the Orange County\, U.S. and global economies in light of the coronavirus crisis\, presented by Anil Puri\, Ph.D.\, provost emeritus and director of the Woods Center for Economic Analysis and Forecasting\, and Mira Farka\, Ph.D.\, associate professor of economics and co-director of the Woods Center for Economic Analysis and Forecasting.
LOCATION:This is an online event Registration is limited
UID:e.887.24303
SEQUENCE:3
DTSTAMP:20260421T153400Z
URL:https://business.nocchamber.com/events/details/csuf-mihaylo-college-economic-forecast-panel-discussion-24303
END:VEVENT

END:VCALENDAR
