BEGIN:VCALENDAR
VERSION:2.0
PRODID:-//ChamberMaster//Event Calendar 2.0//EN
METHOD:PUBLISH
X-PUBLISHED-TTL:P3D
REFRESH-INTERVAL:P3D
CALSCALE:GREGORIAN
BEGIN:VEVENT
DTSTART:20180925T170000Z
DTEND:20180925T210000Z
X-MICROSOFT-CDO-ALLDAYEVENT:FALSE
SUMMARY:CSUF - Fall 2018 Public Service\, Government & Non-Profit Career Expo
DESCRIPTION:The Career Center at California State University\, Fullerton will be hosting Fall 2018 Public Service\, Government & Non-Profit Career Expo to provide opportunities for employers and agencies to discuss or interview with current open job or internship with students.
X-ALT-DESC;FMTTYPE=text/html:<span style="background:white\;"><span style="color:#333333\;"><span style="font-family:arial\,sans-serif\;"><span style="font-size:10.0pt\;">The Career Center at California State University\, Fullerton will be hosting&nbsp\;</span></span></span></span><strong>Fall 2018 Public Service\, Government &amp\; Non-Profit Career Expo</strong> to provide opportunities for employers and agencies to discuss or interview with current open job or internship with students.
LOCATION:Titan Student Union Pavilion 800 N. State College Blvd Fullerton\, CA 92831
UID:e.887.22659
SEQUENCE:3
DTSTAMP:20260422T153442Z
URL:https://business.nocchamber.com/events/details/csuf-fall-2018-public-service-government-non-profit-career-expo-22659
END:VEVENT

END:VCALENDAR
