BEGIN:VCALENDAR
VERSION:2.0
PRODID:-//ChamberMaster//Event Calendar 2.0//EN
METHOD:PUBLISH
X-PUBLISHED-TTL:P3D
REFRESH-INTERVAL:P3D
CALSCALE:GREGORIAN
BEGIN:VEVENT
DTSTART:20200304T170000Z
DTEND:20200304T190000Z
X-MICROSOFT-CDO-ALLDAYEVENT:FALSE
SUMMARY:CSUF - Community Forum on Conditions of Orange County's Children
DESCRIPTION:Join Orange County Supervisor Doug Chaffee (4th District) and the Orange County Children's Partnership at California State University\, Fullerton for a Community Forum on the 25th Annual Report on the Conditions of Children in Orange County. \n\n\n\nThe 25th Annual Report on the Conditions of Children in Orange County will provide a comprehensive picture of the present condition of children in Orange County by covering four interdependent focus areas:  Good Health\, Economic Well-Being\, Educational Achievement and Safe Homes and Communities. Each focus area includes the most recent data for indicators to assess improving or worsening trends over 10 years\, revealing those areas we must address to ensure all Orange County Children thrive. \n\n\n\nEngage with speakers and other participants about early childhood mental health.\n\n	Why we should care about early childhood mental health.\n	Learning from the front lines of preschool.\n	Developing community strategies to address Orange County's needs.
X-ALT-DESC;FMTTYPE=text/html:Join Orange County Supervisor Doug Chaffee (4th District) and the Orange County Children&#39\;s Partnership at California State University\, Fullerton for a Community Forum on the 25th Annual Report on the Conditions of Children in Orange County.&nbsp\;<br />\n<br />\nThe 25th Annual Report on the Conditions of Children in Orange County will provide a comprehensive picture of the present condition of children in Orange County by covering four interdependent focus areas:&nbsp\; Good Health\, Economic Well-Being\, Educational Achievement and Safe Homes and Communities. Each focus area includes the most recent data for indicators to assess improving or worsening trends over 10 years\, revealing those areas we must address to ensure all Orange County Children thrive.&nbsp\;<br />\n<br />\nEngage with speakers and other participants about early childhood mental health.\n<ul>\n	<li>Why we should care about early childhood mental health.</li>\n	<li>Learning from the front lines of&nbsp\;preschool.</li>\n	<li>Developing community strategies to address Orange County&#39\;s needs.</li>\n</ul>\n
LOCATION:Titan Student Union California State University\, Fullerton 800 N. State College Blvd. Fullerton\, CA 92831
UID:e.887.24175
SEQUENCE:3
DTSTAMP:20260421T165428Z
URL:https://business.nocchamber.com/events/details/csuf-community-forum-on-conditions-of-orange-county-s-children-24175
END:VEVENT

END:VCALENDAR
