BEGIN:VCALENDAR
VERSION:2.0
PRODID:-//ChamberMaster//Event Calendar 2.0//EN
METHOD:PUBLISH
X-PUBLISHED-TTL:P3D
REFRESH-INTERVAL:P3D
CALSCALE:GREGORIAN
BEGIN:VEVENT
DTSTART:20190624T160000Z
DTEND:20190624T230000Z
X-MICROSOFT-CDO-ALLDAYEVENT:FALSE
SUMMARY:CSUF Children's Programs - Sphero Coding Camp
DESCRIPTION:In this course\, your child will learn the basics of coding\, engineering and robotics by:\n\n	Working hands-on with block-based coding and Sphero robots.\n	Building interactive games and navigating challenging puzzles.\n	Taking part in engineering activities that promote innovative thinking.\n\n\n\nThe following sessions are offered:\n\n	June 24-28\n	July 7-12\n	July 15-19
X-ALT-DESC;FMTTYPE=text/html:In this course\, your child will learn the basics of coding\, engineering and robotics by:\n<ul>\n	<li>Working hands-on with block-based coding and Sphero robots.</li>\n	<li>Building interactive games and navigating challenging puzzles.</li>\n	<li>Taking part in engineering activities that promote innovative thinking.</li>\n</ul>\n<br />\nThe following sessions are offered:\n<ul>\n	<li>June 24-28</li>\n	<li>July 7-12</li>\n	<li>July 15-19</li>\n</ul>\n
LOCATION:Cal State Fullerton 800 N. State College Blvd. Fullerton\, CA 92831
UID:e.887.23392
SEQUENCE:3
DTSTAMP:20260422T041257Z
URL:https://business.nocchamber.com/events/details/csuf-children-s-programs-sphero-coding-camp-23392
END:VEVENT

END:VCALENDAR
