BEGIN:VCALENDAR
VERSION:2.0
PRODID:-//ChamberMaster//Event Calendar 2.0//EN
METHOD:PUBLISH
X-PUBLISHED-TTL:P3D
REFRESH-INTERVAL:P3D
CALSCALE:GREGORIAN
BEGIN:VEVENT
DTSTART:20190624T160000Z
DTEND:20190624T230000Z
X-MICROSOFT-CDO-ALLDAYEVENT:FALSE
SUMMARY:CSUF Children's Programs - Mobile App Development Class
DESCRIPTION:This class introduces your child to the world of mobile app development. Your child will:\n\n	Experience the entire app-development process\, from design to development to debugging through block-based coding.\n	Build strong teamwork skills by working in small groups.\n	Visit a local tech company and learn from industry professionals.\n\n\n\nThe following sessions are offered:\n\n	June 24-28\n	July 7-12\n	July 15-19
X-ALT-DESC;FMTTYPE=text/html:This class introduces your child to the world of mobile app development. Your child will:\n<ul>\n	<li>Experience the entire app-development process\, from design to development to debugging through block-based coding.</li>\n	<li>Build strong teamwork skills by working in small groups.</li>\n	<li>Visit a local tech company and learn from industry professionals.</li>\n</ul>\n<br />\nThe following sessions are offered:\n<ul>\n	<li>June 24-28</li>\n	<li>July 7-12</li>\n	<li>July 15-19</li>\n</ul>\n
LOCATION:Cal State Fullerton 800 N. State College Blvd. Fullerton\, CA 92831
UID:e.887.23393
SEQUENCE:3
DTSTAMP:20260422T041257Z
URL:https://business.nocchamber.com/events/details/csuf-children-s-programs-mobile-app-development-class-23393
END:VEVENT

END:VCALENDAR
