BEGIN:VCALENDAR
VERSION:2.0
PRODID:-//ChamberMaster//Event Calendar 2.0//EN
METHOD:PUBLISH
X-PUBLISHED-TTL:P3D
REFRESH-INTERVAL:P3D
CALSCALE:GREGORIAN
BEGIN:VEVENT
DTSTART:20200528T170000Z
DTEND:20200529T060000Z
X-MICROSOFT-CDO-ALLDAYEVENT:FALSE
SUMMARY:CSUF Center for Family Business Webinar Featuring Roger Kotch
DESCRIPTION:Whether you are in the food and beverage industry or not\, or if your business has been heavily impacted by the current Covid-19 pandemic\, this program is designed for you. The experience Roger has in the industry will be obvious\, and the wisdom and expertise he will share is applicable to any company. \n\n\n\nRoger Kotch is Founder and Managing Director of RYAMK Consulting\, a management consulting firm focused on family businesses in the food\, beverage and hospitality industry. Previously\, Roger was the Chief Financial Officer of In-N-Out Burger from 1997 to 2019\, a California corporation and leader in the quick service restaurant industry with over 350 stores in the states of California\, Nevada\, Arizona\, Utah\, Oregon and Texas. Roger started at In-N-Out Burger in 1984\, when the company had 32 stores\, and held the positions of Controller\, Director of Finance and Vice President of Administration before assuming the position of CFO in 1997.\n\n\n\nEmail edhart@fullerton.edu for the Zoom Meeting ID and Password.
X-ALT-DESC;FMTTYPE=text/html:Whether you are in the food and beverage industry or not\, or if your business has been heavily impacted by the current Covid-19 pandemic\, this program is designed for you. The experience Roger has in the industry will be obvious\, and the wisdom and expertise he will share is applicable to any company.&nbsp\;<br />\n<br />\nRoger Kotch is Founder and Managing Director of RYAMK Consulting\, a management consulting firm focused on family businesses in the food\, beverage and hospitality industry. Previously\, Roger was the Chief Financial Officer of In-N-Out Burger from 1997 to 2019\, a California corporation and leader in the quick service restaurant industry with over 350 stores in the states of California\, Nevada\, Arizona\, Utah\, Oregon and Texas. Roger started at In-N-Out Burger in 1984\, when the company had 32 stores\, and held the positions of Controller\, Director of Finance and Vice President of Administration before assuming the position of CFO in 1997.<br />\n<br />\nEmail <a href="mailto:edhart@fullerton.edu">edhart@fullerton.edu</a> for the Zoom Meeting ID and Password.
LOCATION:Zoom Email edhart@fullerton.edu for the Zoom Meeting ID and Password.
UID:e.887.24350
SEQUENCE:3
DTSTAMP:20260421T143657Z
URL:https://business.nocchamber.com/events/details/csuf-center-for-family-business-webinar-featuring-roger-kotch-24350
END:VEVENT

END:VCALENDAR
