BEGIN:VCALENDAR
VERSION:2.0
PRODID:-//ChamberMaster//Event Calendar 2.0//EN
METHOD:PUBLISH
X-PUBLISHED-TTL:P3D
REFRESH-INTERVAL:P3D
CALSCALE:GREGORIAN
BEGIN:VEVENT
DTSTART:20190417T143000Z
DTEND:20190417T170000Z
X-MICROSOFT-CDO-ALLDAYEVENT:FALSE
SUMMARY:CSUF Center for Family Business - Empowering Ventures
DESCRIPTION:The CSUF Center for Family Business is hosting "Empowering Ventures." An expert will lead in team building\, leadership development\, and trust building.The workshop will be held from 7:30 a.m. to 10:00 a.m. and will include a panel discussion with advisors and experts in Family Business. Bring\, or come wearing\, casual clothes and enjoy the High Adventure Ropes Course and Zip Line after the workshop. The speaker for this event will be Cliff Tobin from Empowering Ventures Inc.
X-ALT-DESC;FMTTYPE=text/html:The CSUF Center for Family Business is hosting &quot\;Empowering Ventures.&quot\; An expert will lead in team building\, leadership development\, and trust building.The workshop will be held from 7:30 a.m. to 10:00 a.m. and will include a panel discussion with advisors and experts in Family Business. Bring\, or come wearing\, casual clothes and enjoy the High Adventure Ropes Course and Zip Line after the workshop. The speaker for this event will be Cliff Tobin from Empowering Ventures Inc.
LOCATION:Irvine Ranch Outdoor Education Center 2 Irvine Park Road Orange\, CA 92869
UID:e.887.23123
SEQUENCE:3
DTSTAMP:20260422T065702Z
URL:https://business.nocchamber.com/events/details/csuf-center-for-family-business-empowering-ventures-23123
END:VEVENT

END:VCALENDAR
