BEGIN:VCALENDAR
VERSION:2.0
PRODID:-//ChamberMaster//Event Calendar 2.0//EN
METHOD:PUBLISH
X-PUBLISHED-TTL:P3D
REFRESH-INTERVAL:P3D
CALSCALE:GREGORIAN
BEGIN:VEVENT
DTSTART:20191022T003000Z
DTEND:20191022T020000Z
X-MICROSOFT-CDO-ALLDAYEVENT:FALSE
SUMMARY:CSU Fullerton Master Plan Presentation
DESCRIPTION:CSU Fullerton has arrived at a Campus Master Plan Preferred Option. The master plan architects will showcase their collective vision for the future of the campus. Topics include academic building improvements\, more beds for housing\, apartments\, and more.\n\n\n\nRefreshments will be served and parking is available for free in the Nutwood Parking Structure from 5 p.m. - 7 p.m.
X-ALT-DESC;FMTTYPE=text/html:CSU Fullerton has arrived at a <a href="https://masterplan.fullerton.edu/preferred/Default.php" target="_blank">Campus Master Plan Preferred Option</a>. The master plan architects will showcase their collective vision for the future of the campus. Topics include academic building improvements\, more beds for housing\, apartments\, and more.<br />\n<br />\nRefreshments will be served and parking is available for free in the Nutwood Parking Structure from 5 p.m. - 7 p.m.
LOCATION:Titan Student Union\, Portola Pavilion C 800 N. State College Blvd. Fullerton\, CA\, 92831
UID:e.887.23742
SEQUENCE:3
DTSTAMP:20260421T225307Z
URL:https://business.nocchamber.com/events/details/csu-fullerton-master-plan-presentation-23742
END:VEVENT

END:VCALENDAR
