BEGIN:VCALENDAR
VERSION:2.0
PRODID:-//ChamberMaster//Event Calendar 2.0//EN
METHOD:PUBLISH
X-PUBLISHED-TTL:P3D
REFRESH-INTERVAL:P3D
CALSCALE:GREGORIAN
BEGIN:VEVENT
DTSTART:20190311T000000Z
DTEND:20190311T030000Z
X-MICROSOFT-CDO-ALLDAYEVENT:FALSE
SUMMARY:Crittenton - Mystery Night
DESCRIPTION:Crittenton's Mystery Night: \n\n	Pre-dinner beverages\n	Bidding on auction items\n	Raffle prizes\n	Interactive dinner theater event at Angelo's & Vinci's Ristorante\n\n*Proceeds go to Crittenton's In*Sight Program\, a comprehensive\, multi-faceted residential program for assessment\, treatment\, and recovery of Commercially Sexually Exploited Youth.
X-ALT-DESC;FMTTYPE=text/html:Crittenton&#39\;s Mystery Night:&nbsp\;\n<ul>\n	<li>Pre-dinner beverages</li>\n	<li>Bidding on auction items</li>\n	<li>Raffle prizes</li>\n	<li>Interactive dinner theater event at Angelo&#39\;s &amp\; Vinci&#39\;s Ristorante</li>\n</ul>\n*Proceeds go to Crittenton&#39\;s In*Sight Program\, a comprehensive\, multi-faceted residential program for assessment\, treatment\, and recovery of Commercially Sexually Exploited Youth.
LOCATION:Angelo's & Vinci's Restorante 550 N Harbor Blvd. Fullerton\, CA 92832
UID:e.887.22957
SEQUENCE:3
DTSTAMP:20260422T080634Z
URL:https://business.nocchamber.com/events/details/crittenton-mystery-night-22957
END:VEVENT

END:VCALENDAR
