BEGIN:VCALENDAR
VERSION:2.0
PRODID:-//ChamberMaster//Event Calendar 2.0//EN
METHOD:PUBLISH
X-PUBLISHED-TTL:P3D
REFRESH-INTERVAL:P3D
CALSCALE:GREGORIAN
BEGIN:VEVENT
DTSTART:20190301T160000Z
DTEND:20190304T060000Z
X-MICROSOFT-CDO-ALLDAYEVENT:FALSE
SUMMARY:Crepes Bonaparte Fullerton One Year Anniversary
DESCRIPTION:Crepes Bonaparte in Downtown Fullerton is celebrating their 1 year anniversary. Enjoy $2 crepes all weekend long.
X-ALT-DESC;FMTTYPE=text/html:Crepes Bonaparte in Downtown Fullerton is celebrating their 1 year anniversary. Enjoy $2 crepes all weekend long.
LOCATION:Crepes Bonaparte 115 S. Harbor Blvd Fullerton\, CA\, 92832
UID:e.887.23006
SEQUENCE:3
DTSTAMP:20260422T091401Z
URL:https://business.nocchamber.com/events/details/crepes-bonaparte-fullerton-one-year-anniversary-23006
END:VEVENT

END:VCALENDAR
