BEGIN:VCALENDAR
VERSION:2.0
PRODID:-//ChamberMaster//Event Calendar 2.0//EN
METHOD:PUBLISH
X-PUBLISHED-TTL:P3D
REFRESH-INTERVAL:P3D
CALSCALE:GREGORIAN
BEGIN:VEVENT
DTSTART:20190713T173000Z
DTEND:20190713T183000Z
X-MICROSOFT-CDO-ALLDAYEVENT:FALSE
SUMMARY:Credit Union of SoCal Retirement Income Planning Seminar
DESCRIPTION:Each quarter\, Credit Union of Southern California is pleased to bring you a series of seminars to help you accomplish your 2019 financial goals. All of our classes are free and open to the community.\n\nThe following seminar will take place in the Brea Community Center on Saturday\, July 13:\n\nRetirement Income Planning 1 - 10:30 a.m. -11:30 a.m.\n\n\n\nThe decision of when to retire can be a daunting one. Will you have enough income to maintain a comfortable lifestyle? Will your retirement nest egg last as long as you need it to? How much annual income will you need? Is your retirement income nest egg invested correctly for your life stage? A good retirement plan will address these concerns as well as others. In this workshop\, you will learn about the retirement planning process and its importance in addressing your financial goals. This workshop will discuss some of the different sources of income available to you at retirement. How to manage the risk of outliving your income\, and how to manage the risk of unexpected life events.\n\n\n\n(Presented by Investment Services located at Credit Union of Southern California)
X-ALT-DESC;FMTTYPE=text/html:Each quarter\, Credit Union of Southern California is pleased to bring you a series of seminars to help you accomplish your 2019 financial goals. All of our classes are free and open to the community.<br />\nThe following seminar will take place in the Brea Community Center on Saturday\, July 13:\n<div id="ctl00_Main_plcMain_lt_zoneMain_Details_PnlHeader2">\n<p>Retirement Income Planning&nbsp\;1 - 10:30 a.m. -11:30&nbsp\;a.m.<br />\n<br />\nThe decision of when to retire can be a daunting one. Will you have enough income to maintain a comfortable lifestyle?&nbsp\;Will your retirement nest egg last as long as you need it to?&nbsp\;How much annual income will you need?&nbsp\;Is your retirement income nest egg invested correctly for your life stage?&nbsp\;A good retirement plan will address these concerns as well as others.&nbsp\;In this workshop\, you will learn about the retirement planning process and its importance in addressing your financial goals.&nbsp\;This workshop will discuss some of the different sources of income available to you at retirement. How to manage the risk of outliving your income\, and how to manage the risk of unexpected life events.<br />\n<br />\n(Presented by Investment Services located at Credit Union of Southern California)</p>\n</div>\n
LOCATION:Brea Community Center 695 E. Madison Way Brea\, CA 92821
UID:e.887.23427
SEQUENCE:3
DTSTAMP:20260422T030620Z
URL:https://business.nocchamber.com/events/details/credit-union-of-socal-retirement-income-planning-seminar-23427
END:VEVENT

END:VCALENDAR
