BEGIN:VCALENDAR
VERSION:2.0
PRODID:-//ChamberMaster//Event Calendar 2.0//EN
METHOD:PUBLISH
X-PUBLISHED-TTL:P3D
REFRESH-INTERVAL:P3D
CALSCALE:GREGORIAN
BEGIN:VEVENT
DTSTART:20190713T184500Z
DTEND:20190713T193000Z
X-MICROSOFT-CDO-ALLDAYEVENT:FALSE
SUMMARY:Credit Union of SoCal Identity Theft Solutions Seminar
DESCRIPTION:Each quarter\, Credit Union of Southern California is pleased to bring you a series of seminars to help you accomplish your 2019 financial goals. All of our classes are free and open to the community.\n\n\n\nThe following seminar will take place in the Brea Community Center on Saturday\, July 13:\n\nIdentity Theft Solutions - 11:45 a.m. - 12:30 p.m.\n\n\n\nIdentity theft is becoming more common and sophisticated than ever. Session participants will learn the methods that identity thieves use to access confidential information\, tools for preventing ID theft\, and steps to take should identity theft occur.
X-ALT-DESC;FMTTYPE=text/html:Each quarter\, Credit Union of Southern California is pleased to bring you a series of seminars to help you accomplish your 2019 financial goals. All of our classes are free and open to the community.<br />\n<br />\nThe following seminar will take place in the Brea Community Center on Saturday\, July 13:\n<div id="ctl00_Main_plcMain_lt_zoneMain_Details_PnlHeader2">\n<p>Identity Theft Solutions - 11:45 a.m. - 12:30 p.m.<br />\n<br />\nIdentity theft is becoming more common and sophisticated than ever. Session participants will learn the methods that identity thieves use to access confidential information\, tools for preventing ID theft\, and steps to take should identity theft occur.</p>\n</div>\n
LOCATION:Brea Community Center 695 E. Madison Way Brea\, CA 92821
UID:e.887.23430
SEQUENCE:3
DTSTAMP:20260422T030420Z
URL:https://business.nocchamber.com/events/details/credit-union-of-socal-identity-theft-solutions-seminar-23430
END:VEVENT

END:VCALENDAR
