BEGIN:VCALENDAR
VERSION:2.0
PRODID:-//ChamberMaster//Event Calendar 2.0//EN
METHOD:PUBLISH
X-PUBLISHED-TTL:P3D
REFRESH-INTERVAL:P3D
CALSCALE:GREGORIAN
BEGIN:VEVENT
DTSTART:20190713T194500Z
DTEND:20190713T210000Z
X-MICROSOFT-CDO-ALLDAYEVENT:FALSE
SUMMARY:Credit Union of SoCal Buying A Home Seminar
DESCRIPTION:Each quarter\, Credit Union of Southern California is pleased to bring you a series of seminars to help you accomplish your 2019 financial goals. All of our classes are free and open to the community.\n\n\n\nThe following seminar will take place in the Brea Community Center on Saturday\, July 13:\n\nBuying A Home - 12:45 p.m. - 2:00 p.m.\n\n\n\nThinking about buying a new home or your first home but don't know where to start? The CU SoCal team of real estate agents and lenders will walk you through the process of purchasing a home so you know what to expect and how to plan.
X-ALT-DESC;FMTTYPE=text/html:Each quarter\, Credit Union of Southern California is pleased to bring you a series of seminars to help you accomplish your 2019 financial goals. All of our classes are free and open to the community.<br />\n<br />\nThe following seminar will take place in the Brea Community Center on Saturday\, July 13:\n<div id="ctl00_Main_plcMain_lt_zoneMain_Details_PnlHeader2">\n<p>Buying A Home - 12:45 p.m. - 2:00 p.m.<br />\n<br />\nThinking about buying a new home or your first home but don&#39\;t know where to start? The CU SoCal team of real estate agents and lenders will walk you through the process of purchasing a home so you know what to expect and how to plan.</p>\n</div>\n
LOCATION:Brea Community Center 695 E. Madison Way Brea\, CA 92821
UID:e.887.23431
SEQUENCE:3
DTSTAMP:20260422T041951Z
URL:https://business.nocchamber.com/events/details/credit-union-of-socal-buying-a-home-seminar-23431
END:VEVENT

END:VCALENDAR
