BEGIN:VCALENDAR
VERSION:2.0
PRODID:-//ChamberMaster//Event Calendar 2.0//EN
METHOD:PUBLISH
X-PUBLISHED-TTL:P3D
REFRESH-INTERVAL:P3D
CALSCALE:GREGORIAN
BEGIN:VEVENT
DTSTART:20190613T170000Z
DTEND:20190613T190000Z
X-MICROSOFT-CDO-ALLDAYEVENT:FALSE
SUMMARY:Creating a Capability Statement for Marketing to Government Customers
DESCRIPTION:A capability statement is a useful marketing tool. It is a succinct document that describes your company's core strengths and capabilities\, highlighting what your company can do for potential government customers and reflecting on your past successes. A well-written capability statement can be distributed to potential government customers in a number of ways and can quickly answer their question of why they should buy from you\, rather than your competition.\n\n Join us for an interactive workshop that will cover:\n\n\n\n  What Is a Capability Statement?\n\n\n\n  Types of Capability Statements\n\n\n\n  Essential Elements\n\n\n\n  Effective Uses of Capability Statement\n\n\n\n  Examples Good & Not So Good\n\n\n\nFacilitated by Brett Housholder\, Acting Director\n\nSan Diego\, Orange\, Imperial PTAC
X-ALT-DESC;FMTTYPE=text/html:A capability statement is a useful marketing tool. It is a succinct document that describes your company&rsquo\;s core strengths and capabilities\, highlighting what your company can do for potential government customers and reflecting on your past successes. A well-written capability statement can be distributed to potential government customers in a number of ways and can quickly answer their question of why they should buy from you\, rather than your competition.\n<div>\n<p>&#65279\;Join us for an interactive workshop that will cover:</p>\n</div>\n\n<div>\n<p>&bull\; What Is a Capability Statement?</p>\n</div>\n\n<div>\n<p>&bull\; Types of Capability Statements</p>\n</div>\n\n<div>\n<p>&bull\; Essential Elements</p>\n</div>\n\n<div>\n<p>&bull\; Effective Uses of Capability Statement</p>\n</div>\n\n<div>\n<p>&bull\; Examples&hellip\;Good &amp\; Not So Good<br />\n<br />\nFacilitated by&nbsp\;Brett Housholder\, Acting Director<br />\nSan Diego\, Orange\, Imperial PTAC</p>\n\n<div>\n<p>&nbsp\;</p>\n</div>\n</div>\n
LOCATION:Orange County Inland Empire Lead Center SBDC CSU Fullerton - Irvine Campus 1 Banting Irvine\, CA 92618
UID:e.887.23400
SEQUENCE:3
DTSTAMP:20260422T053349Z
URL:https://business.nocchamber.com/events/details/creating-a-capability-statement-for-marketing-to-government-customers-23400
END:VEVENT

END:VCALENDAR
