BEGIN:VCALENDAR
VERSION:2.0
PRODID:-//ChamberMaster//Event Calendar 2.0//EN
METHOD:PUBLISH
X-PUBLISHED-TTL:P3D
REFRESH-INTERVAL:P3D
CALSCALE:GREGORIAN
BEGIN:VEVENT
DTSTART:20200724T170000Z
DTEND:20200724T180000Z
X-MICROSOFT-CDO-ALLDAYEVENT:FALSE
SUMMARY:COVID-19 Testing and Vaccines: What's happening now\, and what's next to come?
DESCRIPTION:Pharmaceutical companies are working at record speeds to develop a COVID-19 vaccine. Before it arrives\, we know swift\, accurate\, and widespread testing is key to a successful reopening strategy. \n\n\n\nWhen can we expect a vaccine? Who will have the first access? What are the latest testing strategies\, and will they keep up with demand? \n\n\n\nOn Friday\, guests including Dr. Lloyd B. Minor\, Dean of the Stanford University School of Medicine\, will join us to discuss the latest updates on testing and vaccines\, and address your pressing questions during a live Q&A.
X-ALT-DESC;FMTTYPE=text/html:Pharmaceutical companies are working at record speeds to develop a COVID-19 vaccine. Before it arrives\, we know swift\, accurate\, and widespread testing is key to a successful reopening strategy.&nbsp\;<br />\n<br />\nWhen can we expect a vaccine? Who will have the first access? What are the latest testing strategies\, and will they keep up with demand?&nbsp\;<br />\n<br />\nOn Friday\, guests including Dr. Lloyd B. Minor\, Dean of the Stanford University School of Medicine\, will join us to discuss the latest updates on testing and vaccines\, and&nbsp\;address your pressing&nbsp\;questions during a live Q&amp\;A.&nbsp\;
LOCATION:Virtual
UID:e.887.24539
SEQUENCE:3
DTSTAMP:20260421T120323Z
URL:https://business.nocchamber.com/events/details/covid-19-testing-and-vaccines-what-s-happening-now-and-what-s-next-to-come-24539
END:VEVENT

END:VCALENDAR
