BEGIN:VCALENDAR
VERSION:2.0
PRODID:-//ChamberMaster//Event Calendar 2.0//EN
METHOD:PUBLISH
X-PUBLISHED-TTL:P3D
REFRESH-INTERVAL:P3D
CALSCALE:GREGORIAN
BEGIN:VEVENT
DTSTART:20200403T180000Z
DTEND:20200403T185500Z
X-MICROSOFT-CDO-ALLDAYEVENT:FALSE
SUMMARY:COVID-19 Telephone Town Hall for Small Businesses
DESCRIPTION:Congresswoman Linda Sanchez will be providing an update on COVID-19 and actions being taken by Congress. \n\n Join us to hear from professionals\, including from the Small Business Administration and the Long Beach Small Business Development Center\, on resources available to small businesses during the COVID-19 pandemic. \n\nFriday\, April 3\, 2020\n\n11:00am\n\nDial 855-286-0277\n\nto participate
X-ALT-DESC;FMTTYPE=text/html:<p class="xmsonormal">Congresswoman Linda Sanchez will be providing an update on COVID-19 and actions being taken by Congress. <o:p></o:p></p>\n\n<p class="xmsonormal"><o:p>&nbsp\;</o:p>Join us to hear from professionals\, including from the Small Business Administration and the Long Beach Small Business Development Center\, on resources available to small businesses during the COVID-19 pandemic. <o:p></o:p></p>\n\n<p>Friday\, April 3\, 2020</p>\n\n<p>11:00am</p>\n\n<p>Dial 855-286-0277</p>\n\n<p>to participate</p>\n
LOCATION:Dial 855-286-0277
UID:e.887.24269
SEQUENCE:3
DTSTAMP:20260421T154317Z
URL:https://business.nocchamber.com/events/details/covid-19-telephone-town-hall-for-small-businesses-24269
END:VEVENT

END:VCALENDAR
