BEGIN:VCALENDAR
VERSION:2.0
PRODID:-//ChamberMaster//Event Calendar 2.0//EN
METHOD:PUBLISH
X-PUBLISHED-TTL:P3D
REFRESH-INTERVAL:P3D
CALSCALE:GREGORIAN
BEGIN:VEVENT
DTSTART:20190824T170000Z
DTEND:20190824T190000Z
X-MICROSOFT-CDO-ALLDAYEVENT:FALSE
SUMMARY:Council Member Ahmad Zahra Special Community Forum - Let's Talk Water
DESCRIPTION:Guest Speakers:\n\n	Mike Markus\, Orange County Water District General Manager\n	Adan Ortega\, Metropolitan Water District Board Member (Fullerton?s Representative)\n	Meg McWade\, City of Fullerton Public Works Director\n\n\n\nCouncil Member Zahra invites Fullerton residents\, property owners\, and business owners to attend a presentation and discussion on Orange County Water District\, Metropolitan Water District of Southern California\, and City of Fullerton?s water system. This discussion will include updates on the North Basin Groundwater Cleanup efforts\, the current condition of Fullerton?s water system\, and the future of water in Fullerton.
X-ALT-DESC;FMTTYPE=text/html:Guest Speakers:\n<ul>\n	<li>Mike Markus\, Orange County Water District General Manager</li>\n	<li>Adan Ortega\, Metropolitan Water District Board Member (Fullerton?s Representative)</li>\n	<li>Meg McWade\, City of Fullerton Public Works Director</li>\n</ul>\n<br />\nCouncil Member Zahra invites Fullerton residents\, property owners\, and business owners to attend a presentation and discussion on Orange County Water District\, Metropolitan Water District of Southern California\, and City of Fullerton?s water system. This discussion will include updates on the North Basin Groundwater Cleanup efforts\, the current condition of Fullerton?s water system\, and the future of water in Fullerton.
LOCATION:Fullerton Community Center Classroom 1 340 W. Commonwealth Ave. Fullerton\, CA 92832
UID:e.887.23676
SEQUENCE:3
DTSTAMP:20260422T015702Z
URL:https://business.nocchamber.com/events/details/council-member-ahmad-zahra-special-community-forum-let-s-talk-water-23676
END:VEVENT

END:VCALENDAR
