BEGIN:VCALENDAR
VERSION:2.0
PRODID:-//ChamberMaster//Event Calendar 2.0//EN
METHOD:PUBLISH
X-PUBLISHED-TTL:P3D
REFRESH-INTERVAL:P3D
CALSCALE:GREGORIAN
BEGIN:VEVENT
DTSTART:20200303T170000Z
DTEND:20200303T200000Z
X-MICROSOFT-CDO-ALLDAYEVENT:FALSE
SUMMARY:Costa Mesa: SCORE Workshop - Avoiding Employment Related Litigation
DESCRIPTION:Allyson K. Thompson of Kring & Chung\, Attorneys LLP presents this SCORE workshop which covers the potential pitfalls of employment issues and how these mistakes can lead to costly litigation. Topics include the hiring process and avoiding discrimination\, as well as handling internal complaints and performance reviews.
X-ALT-DESC;FMTTYPE=text/html:Allyson K. Thompson of Kring &amp\; Chung\, Attorneys LLP presents this SCORE workshop which covers the potential pitfalls of employment issues and how these mistakes can lead to costly litigation. Topics include the hiring process and avoiding discrimination\, as well as handling internal complaints and performance reviews.
LOCATION:Staples Store (VM Smith) 241 East 17th St. Costa Mesa\, CA 92627
UID:e.887.24227
SEQUENCE:3
DTSTAMP:20260421T175952Z
URL:https://business.nocchamber.com/events/details/costa-mesa-score-workshop-avoiding-employment-related-litigation-24227
END:VEVENT

END:VCALENDAR
