BEGIN:VCALENDAR
VERSION:2.0
PRODID:-//ChamberMaster//Event Calendar 2.0//EN
METHOD:PUBLISH
X-PUBLISHED-TTL:P3D
REFRESH-INTERVAL:P3D
CALSCALE:GREGORIAN
BEGIN:VEVENT
DTSTART:20200207T153000Z
DTEND:20200207T183000Z
X-MICROSOFT-CDO-ALLDAYEVENT:FALSE
SUMMARY:Costa Mesa: SCORE Orange County Women in Business Breakfast Series
DESCRIPTION:SCORE Orange County presents their Women in Business Breakfast Series with a presentation by Elisa B. Bennett\, lead generation expert on LinkedIn. During the event\, Bennett will be teaching guests how to generate leads on LinkedIn by making changes to their banners\, transforming their profile pages into custom website landing pages\, and communicating with their ideal clients to urge them to connect with their business.
X-ALT-DESC;FMTTYPE=text/html:SCORE Orange County presents their Women in Business Breakfast Series with a presentation by Elisa B. Bennett\, lead generation expert on LinkedIn. During the event\, Bennett will be teaching guests how to generate leads on LinkedIn by making changes to their banners\, transforming their profile pages into custom website landing pages\, and communicating with their ideal clients to urge them to connect with their business.
LOCATION:The Center Club 650 Town Center Drive Costa Mesa\, CA 92626
UID:e.887.24091
SEQUENCE:3
DTSTAMP:20260421T191730Z
URL:https://business.nocchamber.com/events/details/costa-mesa-score-orange-county-women-in-business-breakfast-series-24091
END:VEVENT

END:VCALENDAR
