BEGIN:VCALENDAR
VERSION:2.0
PRODID:-//ChamberMaster//Event Calendar 2.0//EN
METHOD:PUBLISH
X-PUBLISHED-TTL:P3D
REFRESH-INTERVAL:P3D
CALSCALE:GREGORIAN
BEGIN:VEVENT
DTSTART:20200109T020000Z
DTEND:20200109T043000Z
X-MICROSOFT-CDO-ALLDAYEVENT:FALSE
SUMMARY:Costa Mesa - SBCD Simplify Your Business Plan SCORE Workshop
DESCRIPTION:The Business Model Canvas is a tool to identify all aspects of your start-up business. Lenders are starting to accept the Business Model Canvas rather than a full Business Plan. This approach will help you to identify all aspects of your start-up and ensure its success.\n\n \n\n What you will learn\n\n  How to use the Business Model Canvas to create your business\n\n  Identify your Value Proposition for your competitive success\n\n  Check your Value Proposition to customer's needs.\n\n \n\nMike Edwards is a SCORE Mentor and uses the Business Model Canvas to guide clients in refining their business idea. His background is in Manufacturing\, Sales and Marketing.
X-ALT-DESC;FMTTYPE=text/html:<div><span style="color:#000000\;"><span style="font-family: Arial\, Helvetica\, sans-serif\; font-size: 10pt\;" title="">The Business Model Canvas is a tool to identify all aspects of your start-up business. Lenders are starting to accept the Business Model Canvas rather than a full Business Plan. This approach will help you to identify all aspects of your start-up and ensure its success.</span></span></div>\n\n<div>&nbsp\;</div>\n\n<div><span style="color:#000000\;">&nbsp\;What you will learn</span></div>\n\n<div><span style="color:#000000\;">&bull\; How to use the Business Model Canvas to create your business</span></div>\n\n<div><span style="color:#000000\;">&bull\; Identify your Value Proposition for your competitive success</span></div>\n\n<div><span style="color:#000000\;">&bull\; Check your Value Proposition to customer&rsquo\;s needs.</span></div>\n\n<div>&nbsp\;</div>\n\n<div><span style="color:#000000\;">Mike Edwards is a SCORE Mentor and uses the Business Model Canvas to guide clients in refining their business idea. His background is in Manufacturing\, Sales and Marketing.</span></div>\n
LOCATION:Staples Costa Mesa (VM Okhandlar) 241 East 17th St. Costa Mesa\, CA 92627
UID:e.887.24050
SEQUENCE:3
DTSTAMP:20260421T202556Z
URL:https://business.nocchamber.com/events/details/costa-mesa-sbcd-simplify-your-business-plan-score-workshop-24050
END:VEVENT

END:VCALENDAR
