BEGIN:VCALENDAR
VERSION:2.0
PRODID:-//ChamberMaster//Event Calendar 2.0//EN
METHOD:PUBLISH
X-PUBLISHED-TTL:P3D
REFRESH-INTERVAL:P3D
CALSCALE:GREGORIAN
BEGIN:VEVENT
DTSTART:20200115T210000Z
DTEND:20200116T000000Z
X-MICROSOFT-CDO-ALLDAYEVENT:FALSE
SUMMARY:Costa Mesa - SBCD Simplify Your Business Plan SCORE Workshop
DESCRIPTION:Overcoming Stalled Sales:  How To Develop A Sales Strategy For Your Company \n\n\n\nDo you have a sales strategy for your company?  Do you have meaningful sales goals\, a sales culture\, an organization that is structured to support growing sales?  If not\, or if you're just not sure\, this SCORE workshop may be right for you.  Terry Chambless presents a hands-on workshop that will show you how to craft\, implement and manage such a strategy.  This is an interactive planning workshop that will also engage you and the other workshop attendees in an actual mock-up strategic planning session.  This is not a workshop on "how to sell" but instead\, a workshop on how to target\, position and organize your company in a way that will help you increase sales and grow your organization.
X-ALT-DESC;FMTTYPE=text/html:<strong><u>Overcoming Stalled Sales:&nbsp\; How To Develop A Sales Strategy For Your Company&nbsp\;</u></strong><br />\n<br />\nDo you have a sales strategy for your company?&nbsp\; Do you have meaningful sales goals\, a sales culture\, an organization that is structured to support growing sales?&nbsp\; If not\, or if you&#39\;re just not sure\, this SCORE workshop may be right for you.&nbsp\; Terry Chambless presents a hands-on workshop that will show you how to craft\, implement and manage such a strategy.&nbsp\; This is an interactive planning workshop that will also engage you and the other workshop attendees in an actual mock-up strategic planning session.&nbsp\; This is not a workshop on &quot\;how to sell&quot\; but instead\, a workshop on how to target\, position and organize your company in a way that will help you increase sales and grow your organization.
LOCATION:National University (VM Heard) 3390 Harbor Blvd. Costa Mesa\, CA 92626
UID:e.887.23914
SEQUENCE:3
DTSTAMP:20260421T191520Z
URL:https://business.nocchamber.com/events/details/costa-mesa-sbcd-simplify-your-business-plan-score-workshop-01-15-2020-23914
END:VEVENT

END:VCALENDAR
