BEGIN:VCALENDAR
VERSION:2.0
PRODID:-//ChamberMaster//Event Calendar 2.0//EN
METHOD:PUBLISH
X-PUBLISHED-TTL:P3D
REFRESH-INTERVAL:P3D
CALSCALE:GREGORIAN
BEGIN:VEVENT
DTSTART:20200213T013000Z
DTEND:20200213T040000Z
X-MICROSOFT-CDO-ALLDAYEVENT:FALSE
SUMMARY:Costa Mesa - MWDOC 2020 Water Policy Forum & Dinner
DESCRIPTION:Municipal Water District of Orange County (MWDOC) will host a Water Policy Forum and Dinner with keynote speaker Jeffrey Kightlinger\, MWD General Manager and Chief Executive Officer. Mr. Kightlinger will reflect on MWD's past developments and discuss future projects regarding Southern California's water supplies and reliability.
X-ALT-DESC;FMTTYPE=text/html:Municipal Water District of Orange County (MWDOC) will host a Water Policy Forum and Dinner with keynote speaker Jeffrey Kightlinger\, MWD General Manager and Chief Executive Officer. Mr. Kightlinger will reflect on MWD&#39\;s past developments and discuss future projects regarding Southern California&#39\;s water supplies and reliability.
LOCATION:Avenue of the Arts Hotel 3350 Avenue of the Arts Costa Mesa\, CA 92626
UID:e.887.24077
SEQUENCE:3
DTSTAMP:20260421T180117Z
URL:https://business.nocchamber.com/events/details/costa-mesa-mwdoc-2020-water-policy-forum-dinner-24077
END:VEVENT

END:VCALENDAR
