BEGIN:VCALENDAR
VERSION:2.0
PRODID:-//ChamberMaster//Event Calendar 2.0//EN
METHOD:PUBLISH
X-PUBLISHED-TTL:P3D
REFRESH-INTERVAL:P3D
CALSCALE:GREGORIAN
BEGIN:VEVENT
DTSTART:20200313T010000Z
DTEND:20200313T020000Z
X-MICROSOFT-CDO-ALLDAYEVENT:FALSE
SUMMARY:Coronavirus Tele-Town Hall
DESCRIPTION:This Thursday\, March 12 from 6 pm to 7 pm the County of Orange will be hosting a tele-town hall in response to the (new) cornonavirus\, known as COVID-19\, for all of Orange County's residents. \n\n\n\nPlease see the flyers below for more information on the tele-town hall and what information you should know about the coronavirus such as:\n\n	How the coronavirus spreads\n	How to protect yourself from contracting the coronavirus\n	What are the symptoms of the coronavirus\n	What you should do if you traveled to a country with widespread transmission of coronavirus\n\nGiven the gravity of the recent coronavirus outbreak around the world\, they also wanted to provide you with some background\, resources\, and inform of the actions and precautions being taken by the County of Orange.\n\n\n\nThere is an outbreak of respiratory illness that was first identified in Wuhan\, Hubei Province\, China in 2019 caused by COVID-19. The County of Orange has two confirmed cases and three "presumptive cases\," in which the Orange Care Health Care Agency is awaiting confirmation from federal authorities. In the first positive case of coronavirus\, the patient fully recovered.\n\n\n\nOn February 26\, 2020\, the Orange County Board of Supervisors declared a local emergency\, and County Health Officer Dr. Nichole Quick declared a local health emergency as part of broader preparedness efforts related to novel coronavirus\, or COVID-19.\n\n\n\nThese actions will help ensure that the County of Orange's ability to respond to a potential outbreak\, should one occur\, will remain flexible and can evolve as this rapidly changing situation does.\n\n\n\nThe HCA is working with federal\, state\, and local partners including the Centers for Disease Control and Prevention (CDC)\, the California Department of Public Health (CDPH)\, and health care providers on preparedness efforts and to guide appropriate care for people who may be at risk for illness associated with COVID-19 or who have tested positive.\n\n\n\nResources:\n\nOrange County residents are encouraged to monitor the OCHCA's website and follow them on social media for the most up-to-date information.\n\n	http://www.ochealthinfo.com/novelcoronavirus  \n	Facebook: @ochealthinfo\n	Twitter: @ochealth\n	For persons who may have questions about their health and COVID-19\, they may call the OC Health Care Agency's Health Referral Line at (800) 564-8448\, Monday-Friday from 8 am to 5 pm.
X-ALT-DESC;FMTTYPE=text/html:This Thursday\, March 12 from 6 pm to 7 pm the County of Orange will be hosting a tele-town hall in response to the (new) cornonavirus\, known as COVID-19\, for all of Orange County&rsquo\;s residents.&nbsp\;<br />\n<br />\nPlease see the flyers below for more information on the tele-town hall and what information you should know about the coronavirus such as:\n<ul>\n	<li>How the coronavirus spreads</li>\n	<li>How to protect yourself from contracting the coronavirus</li>\n	<li>What are the symptoms of the coronavirus</li>\n	<li>What you should do if you traveled to a country with widespread transmission of coronavirus</li>\n</ul>\nGiven the gravity of the recent coronavirus outbreak around the world\, they also wanted to provide you with some background\, resources\, and inform of the actions and precautions being taken by the County of Orange.<br />\n<br />\nThere is an outbreak of respiratory illness that was first identified in Wuhan\, Hubei Province\, China in 2019 caused by COVID-19.&nbsp\;The County of Orange has&nbsp\;two confirmed cases and three &quot\;presumptive cases\,&quot\; in which the Orange Care Health Care Agency is awaiting confirmation from federal authorities. In the first positive case of coronavirus\, the patient fully recovered.<br />\n<br />\nOn February 26\, 2020\, the Orange County Board of Supervisors declared a local emergency\, and County Health Officer Dr. Nichole Quick declared a local health emergency as part of broader preparedness efforts related to novel coronavirus\, or COVID-19.<br />\n<br />\nThese actions will help ensure that the County of Orange&#39\;s ability to respond to a potential outbreak\, should one occur\, will remain flexible and can evolve as this rapidly changing situation does.<br />\n<br />\nThe HCA is working with federal\, state\, and local partners including the Centers for Disease Control and Prevention (CDC)\, the California Department of Public Health (CDPH)\, and health care providers on preparedness efforts and to guide appropriate care for people who may be at risk for illness associated with COVID-19 or who have tested positive.<br />\n<br />\n<strong><u>Resources:</u></strong><br />\nOrange County residents are encouraged to monitor the OCHCA&rsquo\;s website and follow them on social media for the most up-to-date information.\n<ul>\n	<li><a href="https://lnks.gd/l/eyJhbGciOiJIUzI1NiJ9.eyJidWxsZXRpbl9saW5rX2lkIjoxMDAsInVyaSI6ImJwMjpjbGljayIsImJ1bGxldGluX2lkIjoiMjAyMDAzMTAuMTg1MjAxMTEiLCJ1cmwiOiJodHRwOi8vd3d3Lm9jaGVhbHRoaW5mby5jb20vcGhzL2Fib3V0L2VwaWRhc210L2VwaS9kaXAvcHJldmVudGlvbi9ub3ZlbF9jb3JvbmF2aXJ1cyJ9.iC_dUp47ZF6p2lF0U1a0-kECNvvzzKV2QzNgQhpeNFA/br/75954870532-l" target="_blank">http://www.ochealthinfo.com/novelcoronavirus</a> &nbsp\;</li>\n	<li><a href="https://lnks.gd/l/eyJhbGciOiJIUzI1NiJ9.eyJidWxsZXRpbl9saW5rX2lkIjoxMDEsInVyaSI6ImJwMjpjbGljayIsImJ1bGxldGluX2lkIjoiMjAyMDAzMTAuMTg1MjAxMTEiLCJ1cmwiOiJodHRwczovL3d3dy5mYWNlYm9vay5jb20vb2NoZWFsdGhpbmZvIn0.p-rs_LPNCB4SWFfMDKAgo_wUpydhud2u5O41d1nfuq8/br/75954870532-l" target="_blank">Facebook: @ochealthinfo</a></li>\n	<li><a href="https://lnks.gd/l/eyJhbGciOiJIUzI1NiJ9.eyJidWxsZXRpbl9saW5rX2lkIjoxMDIsInVyaSI6ImJwMjpjbGljayIsImJ1bGxldGluX2lkIjoiMjAyMDAzMTAuMTg1MjAxMTEiLCJ1cmwiOiJodHRwczovL3R3aXR0ZXIuY29tL29jaGVhbHRoIn0.HRop5kx3UC0EFeiTqNFxqyPRvW3e_HSAycTPbNsJFYM/br/75954870532-l" target="_blank">Twitter: @ochealth</a></li>\n	<li>For persons who may have questions about their health and COVID-19\, they may call the OC Health Care Agency&rsquo\;s Health Referral Line at (800) 564-8448\, Monday-Friday from 8 am to 5 pm.</li>\n</ul>\n
LOCATION:Tele-town hall
UID:e.887.24255
SEQUENCE:3
DTSTAMP:20260421T164928Z
URL:https://business.nocchamber.com/events/details/coronavirus-tele-town-hall-24255
END:VEVENT

END:VCALENDAR
