BEGIN:VCALENDAR
VERSION:2.0
PRODID:-//ChamberMaster//Event Calendar 2.0//EN
METHOD:PUBLISH
X-PUBLISHED-TTL:P3D
REFRESH-INTERVAL:P3D
CALSCALE:GREGORIAN
BEGIN:VEVENT
DTSTART:20170713T000000Z
DTEND:20170713T020000Z
X-MICROSOFT-CDO-ALLDAYEVENT:FALSE
SUMMARY:Connecting After Hours hosted by Morningside
DESCRIPTION:The North Orange County Chamber invites you to a\n\n\n\nConnecting After Hours Mixer \n\nat \n\nMorningside of Fullerton\n\n\n\nEnjoy good food and good music by the Blue Hour Trio.
X-ALT-DESC;FMTTYPE=text/html:<div style="text-align: center\; line-height: 23.11px\;"><span style="font-family: verdana\;">The <a href="http://www.nocchamber.com/"><font color="#0066cc">North Orange County Chamber</font></a> invites you to a</span><br />\n<br />\n<span style="color: rgb(0\, 128\, 0)\;"><span style="font-size: 28px\;"><span style="font-family: verdana\;"><span style="margin: 0px\; padding: 0px\; border-radius: 0px\; border: currentColor\; border-image: 100% 1 0\; left: auto\; top: auto\; width: auto\; height: auto\; right: auto\; bottom: auto\; line-height: inherit\; overflow: visible\; clear: none\; vertical-align: baseline\; visibility: inherit\; border-collapse: separate\; position: static\; z-index: auto\; table-layout: auto\; direction: inherit\; -ms-word-break: inherit\; -ms-word-wrap: inherit\; -ms-text-overflow: clip\; max-height: none\; max-width: none\; content: normal\; box-sizing: content-box\; empty-cells: show\; font-stretch: inherit\; opacity: 1\; box-shadow: none\; background-image: none\; resize: none\; outline-offset: 0px\;">Connecting After Hours Mixer </span></span></span></span></div>\n\n<div style="text-align: center\; line-height: 23.11px\;"><span style="color: rgb(0\, 128\, 0)\;"><span style="font-size: 14px\;"><span style="font-family: verdana\;"><span style="margin: 0px\; padding: 0px\; border-radius: 0px\; border: currentColor\; border-image: 100% 1 0\; left: auto\; top: auto\; width: auto\; height: auto\; right: auto\; bottom: auto\; line-height: inherit\; overflow: visible\; clear: none\; vertical-align: baseline\; visibility: inherit\; border-collapse: separate\; position: static\; z-index: auto\; table-layout: auto\; direction: inherit\; -ms-word-break: inherit\; -ms-word-wrap: inherit\; -ms-text-overflow: clip\; max-height: none\; max-width: none\; content: normal\; box-sizing: content-box\; empty-cells: show\; font-stretch: inherit\; opacity: 1\; box-shadow: none\; background-image: none\; resize: none\; outline-offset: 0px\;">at&nbsp\;<br />\nMorningside of Fullerton</span></span></span></span><br />\n<br />\nEnjoy good food and good music by the Blue Hour Trio.</div>\n
LOCATION:800 Morningside Dr. Fullerton\, CA 92835 Complimentary valet parking on campus
UID:e.887.16185
SEQUENCE:3
DTSTAMP:20260421T014046Z
URL:https://business.nocchamber.com/events/details/connecting-after-hours-hosted-by-morningside-16185
END:VEVENT

END:VCALENDAR
