BEGIN:VCALENDAR
VERSION:2.0
PRODID:-//ChamberMaster//Event Calendar 2.0//EN
METHOD:PUBLISH
X-PUBLISHED-TTL:P3D
REFRESH-INTERVAL:P3D
CALSCALE:GREGORIAN
BEGIN:VEVENT
DTSTART:20170209T010000Z
DTEND:20170209T030000Z
X-MICROSOFT-CDO-ALLDAYEVENT:FALSE
SUMMARY:Connecting After Hours - Hosted at Fullerton Train Museum
DESCRIPTION:The North Orange County Chamber and The Southern California Railway Plaza Association invite you to a Connecting After Hours Mixer at the Fullerton Train Museum.\n\n\n\nGuided tours of the vintage railcars will be offered. Please note that due to the uneven ground cover around the trains\, high heel shoes are not recommended.
X-ALT-DESC;FMTTYPE=text/html:The North Orange County Chamber and The Southern California Railway Plaza Association&nbsp\;invite you to a Connecting After Hours Mixer at the Fullerton Train Museum.<br />\n<br />\nGuided tours of the vintage railcars will be offered. <strong>Please note that due to the uneven ground cover around the trains\, high heel shoes&nbsp\;are not recommended. </strong><br />\n&nbsp\;
LOCATION:Fullerton Train Museum 200 E. Santa Fe Ave. Fullerton\, CA 92832 (E. of The Train Station) Parking available at the SOCO Structure located at 150 W. Santa Fe Ave.
UID:e.887.15631
SEQUENCE:3
DTSTAMP:20260422T020001Z
URL:https://business.nocchamber.com/events/details/connecting-after-hours-hosted-at-fullerton-train-museum-15631
END:VEVENT

END:VCALENDAR
