BEGIN:VCALENDAR
VERSION:2.0
PRODID:-//ChamberMaster//Event Calendar 2.0//EN
METHOD:PUBLISH
X-PUBLISHED-TTL:P3D
REFRESH-INTERVAL:P3D
CALSCALE:GREGORIAN
BEGIN:VEVENT
DTSTART:20170614T160000Z
DTEND:20170614T173000Z
X-MICROSOFT-CDO-ALLDAYEVENT:FALSE
SUMMARY:Connect with Local Customers!
DESCRIPTION:Come join Google online as they host an online workshop educating businesses on how to connect with their local customers! This livestream broadcast from Google's headquarters will take a deeper look at the evolving local landscape of online search. Learn some Google tools that can help you stay ahead of the curve!
X-ALT-DESC;FMTTYPE=text/html:Come join Google online as they host an online workshop educating businesses on how to connect with their local customers! This livestream broadcast from Google&#39\;s headquarters will take a deeper look at the evolving local landscape of online search. Learn some Google tools that can help you stay ahead of the curve!&nbsp\;
LOCATION:YouTube Live Stream URL: gybo.com/livestream
UID:e.887.16157
SEQUENCE:3
DTSTAMP:20260421T034102Z
URL:https://business.nocchamber.com/events/details/connect-with-local-customers-16157
END:VEVENT

END:VCALENDAR
