BEGIN:VCALENDAR
VERSION:2.0
PRODID:-//ChamberMaster//Event Calendar 2.0//EN
METHOD:PUBLISH
X-PUBLISHED-TTL:P3D
REFRESH-INTERVAL:P3D
CALSCALE:GREGORIAN
BEGIN:VEVENT
DTSTART:20190607T000000Z
DTEND:20190607T020000Z
X-MICROSOFT-CDO-ALLDAYEVENT:FALSE
SUMMARY:Connect SoCal Workshop
DESCRIPTION:Connect SoCal\, the 2020-2045 Regional Transportation Plan/Sustainable Communities Strategy\, will present a long-range vision that balances future mobility and housing needs with economic\, environmental and public health goals. Connect SoCal will help guide the region's growth\, and will include transportation improvements and land use ideas to shape the future of Southern California. \n\n\n\nThe workshop will highlight challenges facing Southern California over the next 25 years and potential solutions to address them\, including the anticipated growth in population\, transportation and housing development of the region.  The goal is a smarter and more connected region\, so make sure to provide your input by attending a workshop. Whether live\, work or play in Southern California\, you should have a say!  The workshop is free and no RSVP is needed.  \n\nCan't make it? SCAG has also created an online survey as another way to collect community input. You can find it Here
X-ALT-DESC;FMTTYPE=text/html:<span style="color:#757575\;"><span style="font-family:helvetica\,sans-serif\;"><span style="font-size:10.5pt\;">Connect SoCal\, the <strong>2020-2045 Regional Transportation Plan/Sustainable Communities Strategy</strong>\, will present a <strong>long-range vision</strong> that balances future <strong>mobility and housing needs</strong> with <strong>economic\, environmental </strong>and<strong> public health goals.</strong> Connect SoCal will help guide the region&rsquo\;s growth\, and will include transportation improvements and land use ideas to shape the future of Southern California.&nbsp\;<br />\n<br />\nThe workshop will highlight <strong><span style="font-family:helvetica\,sans-serif\;">challenges facing Southern California&nbsp\;over the next 25 years</span></strong> and potential solutions to address them\, including the anticipated growth in population\, transportation and housing development of the region.&nbsp\; <strong><span style="font-family:helvetica\,sans-serif\;">The goal is a smarter and more connected region</span></strong>\, so make sure to provide your input by attending a workshop. Whether live\, work or play in Southern California\, you should have a say!&nbsp\; The w<strong><span style="font-family:helvetica\,sans-serif\;">orkshop is free and no&nbsp\;RSVP is needed.&nbsp\; </span></strong></span></span></span><br />\n<strong><span style="color:#757575\;"><span style="font-family:helvetica\,sans-serif\;"><span style="font-size:10.5pt\;">Can&#39\;t make it?&nbsp\;</span></span></span></strong><span style="font-family: helvetica\, sans-serif\;"><span style="font-size: 10.5pt\;"><font color="#757575">SCAG has also created an </font><strong style="color: rgb(117\, 117\, 117)\;"><span style="font-family:helvetica\,sans-serif\;">online survey</span></strong><font color="#757575"> as another way to collect community&nbsp\;input. </font><span style="font-family: helvetica\, sans-serif\;"><b style="color: rgb(117\, 117\, 117)\;">You can find it&nbsp\;</b><a href="https://neighborland.com/connectsocal/survey"><font color="#007c89">Here</font></a></span></span></span><br />\n<br />\n&nbsp\;
LOCATION:Buena Park Community Center - Main Ball Room 6688 Beach Blvd. Buena Park\, CA 90621
UID:e.887.23328
SEQUENCE:3
DTSTAMP:20260422T041414Z
URL:https://business.nocchamber.com/events/details/connect-socal-workshop-23328
END:VEVENT

END:VCALENDAR
