BEGIN:VCALENDAR
VERSION:2.0
PRODID:-//ChamberMaster//Event Calendar 2.0//EN
METHOD:PUBLISH
X-PUBLISHED-TTL:P3D
REFRESH-INTERVAL:P3D
CALSCALE:GREGORIAN
BEGIN:VEVENT
DTSTART:20190816T160000Z
DTEND:20190816T190000Z
X-MICROSOFT-CDO-ALLDAYEVENT:FALSE
SUMMARY:Congresswoman Linda T. Sanchez - Senior Fair
DESCRIPTION:Congresswoman Linda T. Sanchez is hosting her 17th annual Senior Fair on Friday\, August 16\, 2019 at Cerritos College from 9:00 a.m. to 12:00 p.m.\n\n\n\nCommunity-based organizations and government agencies will be available to provide assistance with:\n\n	Medicare\n	Social security\n	Veteran's benefits\n	Food and housing assistance programs\n	Free health screenings\n\nComplimentary lunch will be provided\, while supplies last. No RSVP is required. Fore more information\, please call (562) 860-5050.\n\n\n\nClick here to view the event flyers.
X-ALT-DESC;FMTTYPE=text/html:Congresswoman Linda T. Sanchez is hosting her 17th annual Senior Fair on Friday\, August 16\, 2019 at Cerritos College from 9:00 a.m. to 12:00 p.m.<br />\n<br />\nCommunity-based organizations and government agencies will be available to provide assistance with:\n<ul>\n	<li>Medicare</li>\n	<li>Social security</li>\n	<li>Veteran&#39\;s benefits</li>\n	<li>Food and housing assistance programs</li>\n	<li>Free health screenings</li>\n</ul>\nComplimentary lunch will be provided\, while supplies last. No RSVP is required. Fore more information\, please call (562) 860-5050.<br />\n<br />\n<a href="https://chambermaster.blob.core.windows.net/userfiles/UserFiles/chambers/887/File/SENIORFAIReng_spanish.pdf">Click here to view the event flyers.</a>
LOCATION:Cerritos College Student Center 11110 Alondra Blvd. Norwalk\, CA 90650
UID:e.887.23443
SEQUENCE:3
DTSTAMP:20260422T015702Z
URL:https://business.nocchamber.com/events/details/congresswoman-linda-t-sanchez-senior-fair-23443
END:VEVENT

END:VCALENDAR
