BEGIN:VCALENDAR
VERSION:2.0
PRODID:-//ChamberMaster//Event Calendar 2.0//EN
METHOD:PUBLISH
X-PUBLISHED-TTL:P3D
REFRESH-INTERVAL:P3D
CALSCALE:GREGORIAN
BEGIN:VEVENT
DTSTART:20200409T170000Z
DTEND:20200409T180000Z
X-MICROSOFT-CDO-ALLDAYEVENT:FALSE
SUMMARY:Congressman Lowenthal - Telephone Roundtable On Orange County Small Business
DESCRIPTION:Please join in Congressman Alan Lowenthal's Orange County Small Business Telephone Roundtable on Thursday\, April 9\, 2020 at 10:00 a.m.
X-ALT-DESC;FMTTYPE=text/html:Please join in Congressman Alan Lowenthal&rsquo\;s Orange County Small Business Telephone Roundtable on Thursday\, April 9\, 2020 at 10:00 a.m.
LOCATION:PANELISTS Mike Daniel Regional Director Orange County Inland Empire SBDC Network Katrina M Payne Smith Associate Regional Director Orange County Inland Empire SBDC Network Claudia Moreno Southern California Outreach Manager Small Business Majority In order to answer as many questions as possible\, and due to the expected high volume of participation\, please submit your question(s) when you register for this event. Live questions will not be taken.
UID:e.887.24270
SEQUENCE:3
DTSTAMP:20260421T153641Z
URL:https://business.nocchamber.com/events/details/congressman-lowenthal-telephone-roundtable-on-orange-county-small-business-24270
END:VEVENT

END:VCALENDAR
