BEGIN:VCALENDAR
VERSION:2.0
PRODID:-//ChamberMaster//Event Calendar 2.0//EN
METHOD:PUBLISH
X-PUBLISHED-TTL:P3D
REFRESH-INTERVAL:P3D
CALSCALE:GREGORIAN
BEGIN:VEVENT
DTSTART:20190904T010000Z
DTEND:20190904T020000Z
X-MICROSOFT-CDO-ALLDAYEVENT:FALSE
SUMMARY:Congressman Gilbert R. Cisneros\, Jr. Town Hall
DESCRIPTION:Come meet Congressman Gilbert R. Cisneros\, Jr. at his third Town Hall in the City of Fullerton within the 39th District and ask him questions about issues you care about.\n\nDoors open at 6:00 p.m. RSVP's are required.
X-ALT-DESC;FMTTYPE=text/html:<p helvetica="" letter-spacing:="" neue="">Come meet Congressman Gilbert R. Cisneros\, Jr. at his third Town Hall in the City of Fullerton within the 39th District and ask him questions about issues you care about.</p>\n\n<p helvetica="" letter-spacing:="" neue="">Doors open at 6:00 p.m. RSVP&#39\;s are required.</p>\n
LOCATION:Fullerton College Wilshire Auditorium 315 East Wilshire Ave. Fullerton\, CA 92831
UID:e.887.23686
SEQUENCE:3
DTSTAMP:20260422T002856Z
URL:https://business.nocchamber.com/events/details/congressman-gilbert-r-cisneros-jr-town-hall-23686
END:VEVENT

END:VCALENDAR
