BEGIN:VCALENDAR
VERSION:2.0
PRODID:-//ChamberMaster//Event Calendar 2.0//EN
METHOD:PUBLISH
X-PUBLISHED-TTL:P3D
REFRESH-INTERVAL:P3D
CALSCALE:GREGORIAN
BEGIN:VEVENT
DTSTART:20191203T020000Z
DTEND:20191203T033000Z
X-MICROSOFT-CDO-ALLDAYEVENT:FALSE
SUMMARY:Congressman Gil Cisneros - Holiday Office Hours
DESCRIPTION:Congressman Gilbert R. Cisneros\, Jr. is hosting his first Annual Holiday Office Hours at his Fullerton District Office. Join the Congressman and his staff over holiday treats\, and ask him questions about issues you care about.\n\nMeet in the patio area outside the 1440 building at 6:00 PM and then be escorted with staff upstairs.\n\nRSVP's are required and must live within the district.
X-ALT-DESC;FMTTYPE=text/html:<p>Congressman Gilbert R. Cisneros\, Jr. is hosting his&nbsp\;first Annual Holiday Office Hours at his Fullerton District Office. Join the Congressman and his staff over holiday treats\, and ask him questions about issues you care about.</p>\n\n<p>Meet in the patio area outside the 1440 building at 6:00 PM and then be escorted with staff upstairs.</p>\n\n<p><a href="https://www.eventbrite.com/e/holiday-office-hours-with-congressman-cisneros-tickets-83719977707?aff=ebemoffollowpublishemail&amp\;utm_term=Holiday+Office+Hours+with+Congressman+Cisneros&amp\;utm_medium=email&amp\;utm_content=follow_notification&amp\;utm_source=eventbrite&amp\;utm_campaign=following_published_event" target="_blank">RSVP&#39\;s are required and must live within the district.&nbsp\;</a></p>\n
LOCATION:1440 N. Harbor Blvd. Fullerton\, CA 92835
UID:e.887.23841
SEQUENCE:3
DTSTAMP:20260421T202618Z
URL:https://business.nocchamber.com/events/details/congressman-gil-cisneros-holiday-office-hours-23841
END:VEVENT

END:VCALENDAR
