BEGIN:VCALENDAR
VERSION:2.0
PRODID:-//ChamberMaster//Event Calendar 2.0//EN
METHOD:PUBLISH
X-PUBLISHED-TTL:P3D
REFRESH-INTERVAL:P3D
CALSCALE:GREGORIAN
BEGIN:VEVENT
DTSTART:20180310T180000Z
DTEND:20180310T193000Z
X-MICROSOFT-CDO-ALLDAYEVENT:FALSE
SUMMARY:Composting with Worms
DESCRIPTION:Learn how to introduce and maintain worms in your home composting system.
X-ALT-DESC;FMTTYPE=text/html:Learn how to introduce and maintain worms in your home composting system.
LOCATION:Fullerton Arboretum Bleachers 1900 Associated Road (At Yorba Linda Blvd.) Fullerton\, CA 92831
UID:e.887.17512
SEQUENCE:3
DTSTAMP:20260421T212151Z
URL:https://business.nocchamber.com/events/details/composting-with-worms-17512
END:VEVENT

END:VCALENDAR
