BEGIN:VCALENDAR
VERSION:2.0
PRODID:-//ChamberMaster//Event Calendar 2.0//EN
METHOD:PUBLISH
X-PUBLISHED-TTL:P3D
REFRESH-INTERVAL:P3D
CALSCALE:GREGORIAN
BEGIN:VEVENT
DTSTART:20190221T013000Z
DTEND:20190221T040000Z
X-MICROSOFT-CDO-ALLDAYEVENT:FALSE
SUMMARY:Community Swearing-In Ceremony with Congressman Lou Correa
DESCRIPTION:Please join Congressman Lou Correa  for his rescheduled Community Swearing-In Ceremony. Congressman Correa will take his oath of office\, meet with constituents\, and provide a legislative update. This is your opportunity to meet your Congressman and learn about how Congressman Correa is fighting for Orange County.
X-ALT-DESC;FMTTYPE=text/html:Please join Congressman Lou Correa&nbsp\; for his rescheduled Community Swearing-In Ceremony. Congressman Correa will take his oath of office\, meet with constituents\, and provide a legislative update. This is your opportunity to meet your Congressman and learn about how Congressman Correa is fighting for Orange County.
LOCATION:Segerstrom High School 2301 W MacArthur Blvd Santa Ana\, CA 92704
UID:e.887.22987
SEQUENCE:3
DTSTAMP:20260422T103335Z
URL:https://business.nocchamber.com/events/details/community-swearing-in-ceremony-with-congressman-lou-correa-22987
END:VEVENT

END:VCALENDAR
