BEGIN:VCALENDAR
VERSION:2.0
PRODID:-//ChamberMaster//Event Calendar 2.0//EN
METHOD:PUBLISH
X-PUBLISHED-TTL:P3D
REFRESH-INTERVAL:P3D
CALSCALE:GREGORIAN
BEGIN:VEVENT
DTSTART:20190209T220000Z
DTEND:20190209T233000Z
X-MICROSOFT-CDO-ALLDAYEVENT:FALSE
SUMMARY:Community Swearing-in Ceremony for Congressman Gilbert R. Cisneros Jr
DESCRIPTION:The Community Swearing-in Ceremony for Congressman Gilbert R. Cisneros Jr. will be held on Saturday\, February 9\, 2019 from 2:00 p.m. to 3:30 p.m. at the George G. Golleher Alumni House.\n\n*Please enter campus through entrance 5 off State College Blvd. and Student Union Way.
X-ALT-DESC;FMTTYPE=text/html:The Community Swearing-in Ceremony for Congressman Gilbert R. Cisneros Jr. will be held on Saturday\, February 9\, 2019 from 2:00 p.m. to 3:30 p.m. at the George G. Golleher Alumni House.<br />\n*Please enter campus through entrance 5 off State College Blvd. and Student Union Way.
LOCATION:Alumni House\, CSU Fullerton 800 N. State College Blvd. Fullerton\, CA 92831 *Please enter campus through entrance 5 off State College Blvd. and Student Union Way.
UID:e.887.22984
SEQUENCE:3
DTSTAMP:20260422T103423Z
URL:https://business.nocchamber.com/events/details/community-swearing-in-ceremony-for-congressman-gilbert-r-cisneros-jr-22984
END:VEVENT

END:VCALENDAR
