BEGIN:VCALENDAR
VERSION:2.0
PRODID:-//ChamberMaster//Event Calendar 2.0//EN
METHOD:PUBLISH
X-PUBLISHED-TTL:P3D
REFRESH-INTERVAL:P3D
CALSCALE:GREGORIAN
BEGIN:VEVENT
DTSTART:20190426T013000Z
DTEND:20190427T033000Z
X-MICROSOFT-CDO-ALLDAYEVENT:FALSE
SUMMARY:Community Conversations with Ahmad Zahra
DESCRIPTION:Join Ahmad Zahra\, Fullerton\, District 5 Councilmember\, on the last Tuesday of each month to discuss neighborhood matters.\n\n\n\n*Free tea\, coffee\, and soft drinks
X-ALT-DESC;FMTTYPE=text/html:Join Ahmad Zahra\, Fullerton\, District 5 Councilmember\, on the last Tuesday of each month to discuss neighborhood matters.<br />\n<br />\n*Free tea\, coffee\, and soft drinks
LOCATION:Panera Bread 1028 S Harbor Blvd. Fullerton\, CA 92832
UID:e.887.23003
SEQUENCE:3
DTSTAMP:20260422T065530Z
URL:https://business.nocchamber.com/events/details/community-conversations-with-ahmad-zahra-04-25-2019-23003
END:VEVENT

END:VCALENDAR
