BEGIN:VCALENDAR
VERSION:2.0
PRODID:-//ChamberMaster//Event Calendar 2.0//EN
METHOD:PUBLISH
X-PUBLISHED-TTL:P3D
REFRESH-INTERVAL:P3D
CALSCALE:GREGORIAN
BEGIN:VEVENT
DTSTART:20190629T160000Z
DTEND:20190629T173000Z
X-MICROSOFT-CDO-ALLDAYEVENT:FALSE
SUMMARY:Community Coffee with Senator Chang & Supervisor Hagman
DESCRIPTION:In honor of National Safety Month\, Senator Ling Ling Chang invites you to:\n\n\n	Help her understand your public safety concerns by taking this survey\n	Join her at an upcoming event to receive tips on public safety and a legislative update on how she is fighting to keep California safe\n	Support her bills to combat human trafficking\, cyber crimes\, and our homelessness crisis.
X-ALT-DESC;FMTTYPE=text/html:<p>In honor of National Safety Month\, Senator Ling Ling Chang invites you to:</p>\n\n<ul>\n	<li>Help her understand your public safety concerns by taking&nbsp\;<a data-auth="NotApplicable" href="https://lcmspubcontact.lc.ca.gov/PublicLCMS/LinkTracking.php?id=244178&amp\;eaid=313470&amp\;url=http%3A%2F%2Flcmspubcontact.lc.ca.gov%2FPublicLCMS%2FSurveysDirect.php%3Fdistrict%3DSD29%26survey%3D5847%26&amp\;tid=SD29C342383004" rel="noopener noreferrer" target="_blank">this&nbsp\;</a><a data-auth="NotApplicable" href="https://lcmspubcontact.lc.ca.gov/PublicLCMS/LinkTracking.php?id=244179&amp\;eaid=313470&amp\;url=https%3A%2F%2Flcmspubcontact.lc.ca.gov%2FPublicLCMS%2FSurveysDirect.php%3Fdistrict%3DSD29%26survey%3D5847%26&amp\;tid=SD29C342383004" rel="noopener noreferrer" target="_blank">survey</a></li>\n	<li>Join her at an upcoming event to receive tips on public safety and a legislative update on how she is fighting to keep California safe</li>\n	<li>Support her&nbsp\;bills to combat human trafficking\, cyber crimes\, and our homelessness crisis.</li>\n</ul>\n
LOCATION:Chino Hills Community Center 14250 Peyton Dr\, Chino Hills\, CA 91709
UID:e.887.23390
SEQUENCE:3
DTSTAMP:20260422T041644Z
URL:https://business.nocchamber.com/events/details/community-coffee-with-senator-chang-supervisor-hagman-23390
END:VEVENT

END:VCALENDAR
