BEGIN:VCALENDAR
VERSION:2.0
PRODID:-//ChamberMaster//Event Calendar 2.0//EN
METHOD:PUBLISH
X-PUBLISHED-TTL:P3D
REFRESH-INTERVAL:P3D
CALSCALE:GREGORIAN
BEGIN:VEVENT
DTSTART:20170608T010000Z
DTEND:20170608T040000Z
X-MICROSOFT-CDO-ALLDAYEVENT:FALSE
SUMMARY:Common Legal Questions For Businesses
DESCRIPTION:New business owners often have questions regarding the formalities required to get their business off the ground. This seminar assists the small business owner in determining the best legal structure for their business. Here's your chance to get answers to your business legal questions without paying an arm and a leg!
X-ALT-DESC;FMTTYPE=text/html:New business owners often have questions regarding the formalities required to get their business off the ground. This seminar assists the small business owner in determining the best legal structure for their business. Here&#39\;s your chance to get answers to your business legal questions without paying an arm and a leg!
LOCATION:Orange County Hispanic Chamber of Commerce 2130 E 4th Street Santa Ana\, CA 92705
UID:e.887.16156
SEQUENCE:3
DTSTAMP:20260421T015205Z
URL:https://business.nocchamber.com/events/details/common-legal-questions-for-businesses-16156
END:VEVENT

END:VCALENDAR
