BEGIN:VCALENDAR
VERSION:2.0
PRODID:-//ChamberMaster//Event Calendar 2.0//EN
METHOD:PUBLISH
X-PUBLISHED-TTL:P3D
REFRESH-INTERVAL:P3D
CALSCALE:GREGORIAN
BEGIN:VEVENT
DTSTART:20180824T180000Z
DTEND:20180824T220000Z
X-MICROSOFT-CDO-ALLDAYEVENT:FALSE
SUMMARY:Comfort Keepers - 20th Anniversary Celebration
DESCRIPTION:Comfort Keepers will be celebrating their 20th Anniversary Celebration of caring for individuals\, committed to providing comforting care solutions that enable seniors and other adults to live safely\, happily\, and independently at home. \n\n\n\nThis event will be an open house picnic party of mix and mingle\, food\, music\, games\, and more. \n\n\n\nTo participate\, RSVP by Friday\, August 17\, 2018: \n\nCall (949) 294-6444 or\n\nEmail paulintal@comfortkeepers.com
X-ALT-DESC;FMTTYPE=text/html:Comfort Keepers will be celebrating their <strong>20th Anniversary Celebration</strong> of caring for individuals\, committed to providing comforting care solutions that enable seniors and other adults to live safely\, happily\, and independently at home.&nbsp\;<br />\n<br />\nThis event will be an open house picnic party of mix and mingle\, food\, music\, games\, and more.&nbsp\;<br />\n<br />\nTo participate\, RSVP by Friday\, August 17\, 2018:&nbsp\;<br />\nCall (949) 294-6444 or<br />\nEmail paulintal@comfortkeepers.com
LOCATION:Cerritos Park East (Picnic Shelter #1) 13234 E. 166th. Cerritos\, CA 90703
UID:e.887.22610
SEQUENCE:3
DTSTAMP:20260422T091143Z
URL:https://business.nocchamber.com/events/details/comfort-keepers-20th-anniversary-celebration-22610
END:VEVENT

END:VCALENDAR
