BEGIN:VCALENDAR
VERSION:2.0
PRODID:-//ChamberMaster//Event Calendar 2.0//EN
METHOD:PUBLISH
X-PUBLISHED-TTL:P3D
REFRESH-INTERVAL:P3D
CALSCALE:GREGORIAN
BEGIN:VEVENT
DTSTART:20200625T180000Z
DTEND:20200625T190000Z
X-MICROSOFT-CDO-ALLDAYEVENT:FALSE
SUMMARY:Comerica Business Sense Recovery Bootcamp.
DESCRIPTION:This series of webinars will cover what loans are available right now\, what alternative financing are available and what marketing strategies you can implement on your road to recovery.
X-ALT-DESC;FMTTYPE=text/html:<span style="color: rgb(35\, 35\, 51)\; font-family: Lato\, Helvetica\, Arial\; font-size: 14px\;">This series of webinars will cover what loans are available&nbsp\;right now\, what alternative financing are available and what marketing strategies you can implement on your road to recovery.</span>
LOCATION:Online Webinar
UID:e.887.24430
SEQUENCE:3
DTSTAMP:20260421T131546Z
URL:https://business.nocchamber.com/events/details/comerica-business-sense-recovery-bootcamp-24430
END:VEVENT

END:VCALENDAR
