BEGIN:VCALENDAR
VERSION:2.0
PRODID:-//ChamberMaster//Event Calendar 2.0//EN
METHOD:PUBLISH
X-PUBLISHED-TTL:P3D
REFRESH-INTERVAL:P3D
CALSCALE:GREGORIAN
BEGIN:VEVENT
DTSTART:20190516T200000Z
DTEND:20190516T220000Z
X-MICROSOFT-CDO-ALLDAYEVENT:FALSE
SUMMARY:Clase Básicas Sobre Los Impuestos de Ventas y el Uso (en español)
DESCRIPTION:Estas clases recurrentes proporcionar n un resumen b sico sobre los impuestos de ventas y el uso. Representantes del Departamento de Administraci n de Impuestos y Cuotas de California (CDTFA) estar n disponibles para responder a sus preguntas relacionadas a su negocio o industria.\n\n\n\nObtenga informacion basica sobre su permiso de ventas\, certificado de ventas al mayoreo\, y como las leyes sobre impustos applica a su negocio.
X-ALT-DESC;FMTTYPE=text/html:Estas clases recurrentes proporcionar&aacute\;n un resumen b&aacute\;sico sobre los impuestos de ventas y el uso. Representantes del Departamento de Administraci&oacute\;n de Impuestos y Cuotas de California (CDTFA) estar&aacute\;n disponibles para responder a sus preguntas relacionadas a su negocio o industria.<br />\n<br />\nObtenga informacion basica sobre su permiso de ventas\, certificado de ventas al mayoreo\, y como las leyes sobre impustos applica a su negocio.
LOCATION:CDTFA Irvine Office 16715 Von Karman Avenue. Suite 175 Irvine CA 92606
UID:e.887.23297
SEQUENCE:3
DTSTAMP:20260422T054626Z
URL:https://business.nocchamber.com/events/details/clase-b&#225;sicas-sobre-los-impuestos-de-ventas-y-el-uso-en-espa&#241;ol-23297
END:VEVENT

END:VCALENDAR
