BEGIN:VCALENDAR
VERSION:2.0
PRODID:-//ChamberMaster//Event Calendar 2.0//EN
METHOD:PUBLISH
X-PUBLISHED-TTL:P3D
REFRESH-INTERVAL:P3D
CALSCALE:GREGORIAN
BEGIN:VEVENT
DTSTART:20190804T003000Z
DTEND:20190804T030000Z
X-MICROSOFT-CDO-ALLDAYEVENT:FALSE
SUMMARY:Civic Expo & National Night Out
DESCRIPTION:About the Civic Expo: \n\nThe Civic Expo hosts booths from La Palma's various service providers including\, utility partners\, public safety departments\, municipal departments\, and community non-profits. Learn about your City and its public partnerships.\n\nAbout National Night Out:\n\nThe National Night Out component is a nationally recognized community-building campaign that promotes strong police community partnerships and neighborhood camaraderie helping to make the community a safe and pleasant place to live. Come see your City's public safety providers\, their services\, and more! \n\nIn addition\, attendees can enjoy La Palma's final summer Concert in the Park for 2019 featuring Mick Adams & the Stones --Rolling Stones tribute band. There will also be food\, games for the family\, and prizes.
X-ALT-DESC;FMTTYPE=text/html:<p>About the Civic Expo:&nbsp\;</p>\n\n<p>The Civic Expo hosts booths from La Palma&rsquo\;s various service providers including\, utility partners\, public safety departments\, municipal departments\, and community non-profits. Learn about your City and its public partnerships.</p>\n\n<p>About National Night Out:</p>\n\n<p>The National Night Out component is a nationally recognized community-building campaign that promotes strong police community partnerships and neighborhood camaraderie helping to make the community a safe and pleasant place to live. Come see your City&#39\;s public safety providers\, their services\, and more!&nbsp\;</p>\n\n<p>In addition\, attendees can enjoy La Palma&#39\;s final summer Concert in the Park for 2019 featuring Mick Adams &amp\; the Stones --Rolling Stones tribute band. There will also be food\, games for the family\, and prizes.</p>\n
LOCATION:7821 Walker St. La Palma\, CA 90623
UID:e.887.23621
SEQUENCE:3
DTSTAMP:20260422T015404Z
URL:https://business.nocchamber.com/events/details/civic-expo-national-night-out-23621
END:VEVENT

END:VCALENDAR
