BEGIN:VCALENDAR
VERSION:2.0
PRODID:-//ChamberMaster//Event Calendar 2.0//EN
METHOD:PUBLISH
X-PUBLISHED-TTL:P3D
REFRESH-INTERVAL:P3D
CALSCALE:GREGORIAN
BEGIN:VEVENT
DTSTART;VALUE=DATE:20191116
DTEND;VALUE=DATE:20191118
TRANSP:TRANSPARENT
X-MICROSOFT-CDO-ALLDAYEVENT:TRUE
SUMMARY:City of Stanton - Meet on Beach Multi-City Community Festival
DESCRIPTION:The first-ever Meet on Beach multi-city community festival is set to re-imagine Beach Boulevard on Sunday\, November 17 with a full day of live musical performances\, local food activations\, hands-on workshops\, free health screenings\, and more free activities for all to enjoy. Created by the Renew Beach Boulevard Coalition\, the alliance behind the economic revitalization and transformation of the 21-mile historic corridor\, seven Orange County cities have joined together to produce a day of active and healthy fun for the surrounding communities.\nParticipate in the Mayor's Fitness Challenge obstacle course.  \n\n\n\nFree rides to the various Meet-On-Beach events will also be provided by OCTA. \n\nClick here to find out more about Meet on Beach.
X-ALT-DESC;FMTTYPE=text/html:The first-ever <a href="https://www.meetonbeach.com/" target="_blank">Meet on Beach</a> multi-city community festival is set to re-imagine Beach Boulevard on Sunday\, November 17 with a full day of live musical performances\, local food activations\, hands-on workshops\, free health screenings\, and more free activities for all to enjoy. Created by the Renew Beach Boulevard Coalition\, the alliance behind the economic revitalization and transformation of the 21-mile historic corridor\, seven Orange County cities have joined together to produce a day of active and healthy fun for the surrounding communities.\n<p>Participate in the Mayor&#39\;s Fitness Challenge obstacle course.&nbsp\;&nbsp\;<br />\n<br />\nFree rides to the various Meet-On-Beach events will also be provided by OCTA.&nbsp\;</p>\n\n<p><a href="https://www.meetonbeach.com/" target="_blank">Click here to find out more about Meet on Beach.</a></p>\n
LOCATION:Stanton Park 11111 Cedar Street Stanton\, CA 90680
UID:e.887.23780
SEQUENCE:3
DTSTAMP:20260421T231336Z
URL:https://business.nocchamber.com/events/details/city-of-stanton-meet-on-beach-multi-city-community-festival-23780
END:VEVENT

END:VCALENDAR
