BEGIN:VCALENDAR
VERSION:2.0
PRODID:-//ChamberMaster//Event Calendar 2.0//EN
METHOD:PUBLISH
X-PUBLISHED-TTL:P3D
REFRESH-INTERVAL:P3D
CALSCALE:GREGORIAN
BEGIN:VEVENT
DTSTART:20181212T023000Z
DTEND:20181212T043000Z
X-MICROSOFT-CDO-ALLDAYEVENT:FALSE
SUMMARY:City of Stanton - Mayor's Oath of Office
DESCRIPTION:The administration of the oath of office for David John Shawver as Mayor of the City of Stanton will be taking place on December 11\, 2018 at 6:30 p.m. in Stanton City Hall.
X-ALT-DESC;FMTTYPE=text/html:The administration of the oath of office for David John Shawver as Mayor of the City of Stanton will be taking place on December 11\, 2018 at 6:30 p.m. in Stanton City Hall.
LOCATION:Stanton City Hall 7800 Katella Ave. Stanton\, CA 90680
UID:e.887.22897
SEQUENCE:3
DTSTAMP:20260422T115340Z
URL:https://business.nocchamber.com/events/details/city-of-stanton-mayor-s-oath-of-office-22897
END:VEVENT

END:VCALENDAR
