BEGIN:VCALENDAR
VERSION:2.0
PRODID:-//ChamberMaster//Event Calendar 2.0//EN
METHOD:PUBLISH
X-PUBLISHED-TTL:P3D
REFRESH-INTERVAL:P3D
CALSCALE:GREGORIAN
BEGIN:VEVENT
DTSTART:20191215T000000Z
DTEND:20191215T030000Z
X-MICROSOFT-CDO-ALLDAYEVENT:FALSE
SUMMARY:City of Stanton - Little Elves Workshop
DESCRIPTION:Stanton Central Park will be hosting a Little Elves Workshop where children ages 5-12 can enjoy arts and crafts\, music\, games\, and much more.
X-ALT-DESC;FMTTYPE=text/html:Stanton Central Park will be hosting a Little Elves Workshop where children ages 5-12 can enjoy arts and crafts\, music\, games\, and much more.&nbsp\;&nbsp\;
LOCATION:Stanton Central Park 10660 Western Avenue Stanton\, CA 90680
UID:e.887.23821
SEQUENCE:3
DTSTAMP:20260421T202745Z
URL:https://business.nocchamber.com/events/details/city-of-stanton-little-elves-workshop-23821
END:VEVENT

END:VCALENDAR
