BEGIN:VCALENDAR
VERSION:2.0
PRODID:-//ChamberMaster//Event Calendar 2.0//EN
METHOD:PUBLISH
X-PUBLISHED-TTL:P3D
REFRESH-INTERVAL:P3D
CALSCALE:GREGORIAN
BEGIN:VEVENT
DTSTART:20191206T020000Z
DTEND:20191206T040000Z
X-MICROSOFT-CDO-ALLDAYEVENT:FALSE
SUMMARY:City of Stanton - Christmas Tree Lighting
DESCRIPTION:The City of Stanton invites you to join your family and friends for this annual holiday favorite.  Enjoy live music\, arts and crafts\, storytime with the Stanton Library\, lighting the Stanton Christmas tree\, and also get a chance to meet Santa Claus.
X-ALT-DESC;FMTTYPE=text/html:The City of Stanton invites you to join your family and friends for this annual holiday favorite.&nbsp\; Enjoy live music\, arts and crafts\, storytime with the Stanton Library\, lighting the Stanton Christmas tree\, and also get a chance to meet Santa Claus.&nbsp\;&nbsp\;
LOCATION:Stanton City Hall & Civic Center 7800 Katella Avenue Stanton\, CA 90680
UID:e.887.23820
SEQUENCE:3
DTSTAMP:20260421T205058Z
URL:https://business.nocchamber.com/events/details/city-of-stanton-christmas-tree-lighting-23820
END:VEVENT

END:VCALENDAR
