BEGIN:VCALENDAR
VERSION:2.0
PRODID:-//ChamberMaster//Event Calendar 2.0//EN
METHOD:PUBLISH
X-PUBLISHED-TTL:P3D
REFRESH-INTERVAL:P3D
CALSCALE:GREGORIAN
BEGIN:VEVENT
DTSTART:20190802T020000Z
DTEND:20190802T030000Z
X-MICROSOFT-CDO-ALLDAYEVENT:FALSE
SUMMARY:City of Stanton Active Transportation 101
DESCRIPTION:You're invited to join the City of Stanton at an interactive workshop devoted to walking\, biking\, and rolling in Stanton on Thursday\, August 1 from 7 p.m. - 8 p.m. at Stanton Central Park\, 10660 Western Ave. (immediately following the Neighborhood Meeting).\n\n\n\nImpact future efforts to make your community more bike and pedestrian-friendly by helping the City understand how you use human-powered transportation (aka "active transportation") to navigate your neighborhood. No technical knowledge is necessary\; your direct experience with walking and biking is enough.\n\n\n\nFor questions\, please contact Kelsey Ransom\, Community Services Coordinator\, at kransom@ci.stanton.ca.us or (714) 890-4271.
X-ALT-DESC;FMTTYPE=text/html:<p>You&#39\;re invited to join the City of Stanton at an interactive workshop devoted to walking\, biking\, and rolling in Stanton on Thursday\, August 1 from 7 p.m. - 8 p.m. at Stanton Central Park\, 10660 Western Ave. (immediately following the Neighborhood Meeting).<br />\n<br />\nImpact future efforts to make your community more bike and pedestrian-friendly by helping the City understand how you use human-powered transportation (aka &quot\;active transportation&quot\;) to navigate your neighborhood. No technical knowledge is necessary\; your direct experience with walking and biking is enough.<br />\n<br />\nFor questions\, please contact Kelsey Ransom\, Community Services Coordinator\, at&nbsp\;<a data-auth="NotApplicable" href="mailto:kransom@ci.stanton.ca.us" rel="noopener noreferrer" target="_blank">kransom@ci.stanton.ca.us</a>&nbsp\;or (714) 890-4271.</p>\n
LOCATION:Stanton Central Park 10660 Western Ave. Stanton\, CA 90680
UID:e.887.23447
SEQUENCE:3
DTSTAMP:20260422T015416Z
URL:https://business.nocchamber.com/events/details/city-of-stanton-active-transportation-101-23447
END:VEVENT

END:VCALENDAR
