BEGIN:VCALENDAR
VERSION:2.0
PRODID:-//ChamberMaster//Event Calendar 2.0//EN
METHOD:PUBLISH
X-PUBLISHED-TTL:P3D
REFRESH-INTERVAL:P3D
CALSCALE:GREGORIAN
BEGIN:VEVENT
DTSTART:20180321T020000Z
DTEND:20180321T040000Z
X-MICROSOFT-CDO-ALLDAYEVENT:FALSE
SUMMARY:City of Placentia Seeks Community Input for District Plan
DESCRIPTION:The City of Placentia is asking for your help planning our City's change to by-district elections. Public input is being solicited on the draft maps at a public hearing at the City Council Meeting on March 20th.There will then be an an additional community meeting on the by-districts maps on March 28th at 6:00 p.m. This will be followed by another public hearing during the City Council Meeting on April 17th\, where the Council will solicit public input on selection of preferred map and election sequence. Finally\, the council will adapt an ordinance establishing a district plan.
X-ALT-DESC;FMTTYPE=text/html:The City of Placentia&nbsp\;is asking for your help planning our City&#39\;s change to by-district elections. Public input is being solicited&nbsp\;on the draft maps at a public hearing&nbsp\;at the&nbsp\;City Council Meeting on March 20th.There will then be an an additional community meeting on the by-districts maps on March 28th&nbsp\;at 6:00 p.m. This will be followed by another public hearing during the City Council Meeting on April 17th\, where the&nbsp\;Council will solicit&nbsp\;public input on selection of preferred map and election sequence. Finally\, the council will adapt an ordinance establishing a district plan.
LOCATION:Placentia City Hall 401 E Chapman Ave. Placentia\, CA 92870
UID:e.887.18240
SEQUENCE:3
DTSTAMP:20260422T002713Z
URL:https://business.nocchamber.com/events/details/city-of-placentia-seeks-community-input-for-district-plan-18240
END:VEVENT

END:VCALENDAR
