BEGIN:VCALENDAR
VERSION:2.0
PRODID:-//ChamberMaster//Event Calendar 2.0//EN
METHOD:PUBLISH
X-PUBLISHED-TTL:P3D
REFRESH-INTERVAL:P3D
CALSCALE:GREGORIAN
BEGIN:VEVENT
DTSTART:20181214T000000Z
DTEND:20181214T060000Z
X-MICROSOFT-CDO-ALLDAYEVENT:FALSE
SUMMARY:City of Placentia - 2018 Tamale Festival
DESCRIPTION:The Placentia Santa Fe Merchants Association and the City of Placentia are proud to bring you the annual Tamale Festival to be held in Old Town Placentia in the 100-200 blocks of Santa Fe Street on Thursday\, December 13\, 2018:\n\n	On the Small Stage: DJ Carlos- 4:00pm - 9:15pm\n	Craft Beer Garden: DJ Donny 4:00 - 9:15 p.m. \n	On the Main Stage:\n	\n		5:00 p.m. Darden Sisters\n		5:45 p.m. Groupo Bella\n		6:30 p.m. Chinelo Dancers\n		7:15 p.m. Christmas Palm Tree Lighting\n		7:30 p.m. Mariachi Divas\n	\n	\n	Visit with Santa from 7:00 p.m. to 8:30 p.m.\n	Additional parking and shuttle service is available at Valencia High School\n	\n		Shuttle service will run from 4:00 p.m. to 9:15 p.m. \n		Valencia High School\n\n		500 N. Bradford Ave. \n\n		Placentia\, CA 92870\n	\n	\n\nFor additional information\, please contact the Placentia Santa Fe Merchants via email at ocrosalina@yahoo.com
X-ALT-DESC;FMTTYPE=text/html:The Placentia Santa Fe Merchants Association and the City of Placentia are proud to bring you the annual Tamale Festival to be held in Old Town Placentia in the 100-200 blocks of Santa Fe Street on&nbsp\;Thursday\, December 13\, 2018:\n<ul>\n	<li>On the Small Stage:&nbsp\;DJ Carlos- 4:00pm - 9:15pm</li>\n	<li>Craft Beer Garden:&nbsp\;DJ Donny 4:00 - 9:15 p.m.&nbsp\;</li>\n	<li>On the Main Stage:\n	<ul>\n		<li>5:00 p.m. Darden Sisters</li>\n		<li>5:45 p.m. Groupo Bella</li>\n		<li>6:30 p.m. Chinelo Dancers</li>\n		<li>7:15 p.m. Christmas Palm Tree Lighting</li>\n		<li>7:30 p.m. Mariachi Divas</li>\n	</ul>\n	</li>\n	<li>Visit with Santa from 7:00 p.m. to 8:30 p.m.</li>\n	<li>Additional parking and shuttle service is available at Valencia High School\n	<ul>\n		<li>Shuttle service will run from 4:00 p.m. to 9:15 p.m.&nbsp\;</li>\n		<li>Valencia High School<br />\n		500 N. Bradford Ave.&nbsp\;<br />\n		Placentia\, CA 92870</li>\n	</ul>\n	</li>\n</ul>\nFor additional information\, please contact the Placentia Santa Fe Merchants via email at&nbsp\;<a href="http://www.placentia.org/index.aspx?NID=685" target="_self">ocrosalina@yahoo.com</a>
LOCATION:Old Town Placentia The 100-200 blocks of Santa Fe Street Placentia\, CA
UID:e.887.22903
SEQUENCE:3
DTSTAMP:20260422T120120Z
URL:https://business.nocchamber.com/events/details/city-of-placentia-2018-tamale-festival-22903
END:VEVENT

END:VCALENDAR
