BEGIN:VCALENDAR
VERSION:2.0
PRODID:-//ChamberMaster//Event Calendar 2.0//EN
METHOD:PUBLISH
X-PUBLISHED-TTL:P3D
REFRESH-INTERVAL:P3D
CALSCALE:GREGORIAN
BEGIN:VEVENT
DTSTART:20190426T020000Z
DTEND:20190426T040000Z
X-MICROSOFT-CDO-ALLDAYEVENT:FALSE
SUMMARY:City of La Palma - State of the City Address
DESCRIPTION:Save the date for the City of La Palma's State of the City Address on Thursday\, April 25 at 7:00 p.m. at the La Palma Community Center.
X-ALT-DESC;FMTTYPE=text/html:Save the date for the City of La Palma&#39\;s State of the City Address on Thursday\, April 25 at 7:00 p.m. at the La Palma Community Center.&nbsp\;
LOCATION:La Palma Community Center 7821 Walker St. La Palma\, CA 90623
UID:e.887.22986
SEQUENCE:3
DTSTAMP:20260422T065826Z
URL:https://business.nocchamber.com/events/details/city-of-la-palma-state-of-the-city-address-22986
END:VEVENT

END:VCALENDAR
